BEGIN:VCALENDAR
VERSION:2.0
PRODID:-//Patriot Guard Riders - ECPv5.6.0//NONSGML v1.0//EN
CALSCALE:GREGORIAN
METHOD:PUBLISH
X-WR-CALNAME:Patriot Guard Riders
X-ORIGINAL-URL:https://www.patriotguard.org
X-WR-CALDESC:Events for Patriot Guard Riders
BEGIN:VTIMEZONE
TZID:America/New_York
BEGIN:DAYLIGHT
TZOFFSETFROM:-0500
TZOFFSETTO:-0400
TZNAME:EDT
DTSTART:20160313T070000
END:DAYLIGHT
BEGIN:STANDARD
TZOFFSETFROM:-0400
TZOFFSETTO:-0500
TZNAME:EST
DTSTART:20161106T060000
END:STANDARD
END:VTIMEZONE
BEGIN:VEVENT
DTSTART;TZID=America/New_York:20160630T090000
DTEND;TZID=America/New_York:20160630T110000
DTSTAMP:20210512T154949
CREATED:20160630T130000Z
LAST-MODIFIED:20191201T144708Z
UID:410930-1467277200-1467284400@www.patriotguard.org
SUMMARY:Roger E. Reidling\, 65\, USA
DESCRIPTION:Roger E. Reidling\, 65\nMilton\, Florida\nThursday 30\, June 2016\nUnited States Army\nVietnam Veteran\n\n\nThe Family of SP4 (E-4) Roger Reidling has invited the Patriot Guard to stand in his honor and escort him to Memory Park Cemetery\, 5641 Hwy 90\, Milton Florida for final honors.  National Cremations & Burial Society\, 5641 Hwy 90\, Milton\, Florida\, is in charge of the arrangements.  We will stage at Whataburger\, 4983 Hwy Milton\, Florida.  Sp4 Reidling was awarded the Vietnam Service Medal and the Combat Badge. He served our country for one year\, seven months and 4 days. \nNOTE:  It is suggested that all riders wear long sleeve shirts\, long trousers\, long fingered gloves\, leather footwear covering the ankles\, appropriate eye wear and DOT approved helmets. \nNOTE:  All riders will attend the safety briefing. \nItinerary:\n0745 – Staging at Whataburger 4983 Hwy 90\, Milton\, Fl.\n0830 – Safety Briefing\n0845 – KSU for National Cremation & Burial Society\n0900 – Flag line at Funeral Home\n0930 – Services\nTBD  – Final Honors\, on site \nRide Captain:  Bill Early\n[URL=”tel:850-485-9600″]850-485-9600[/URL]\nBillsara3@gmail.com
URL:https://www.patriotguard.org/mission/roger-e-reidling-65-usa/
CATEGORIES:Archive
END:VEVENT
END:VCALENDAR