BEGIN:VCALENDAR
VERSION:2.0
PRODID:-//Patriot Guard Riders - ECPv5.6.0//NONSGML v1.0//EN
CALSCALE:GREGORIAN
METHOD:PUBLISH
X-WR-CALNAME:Patriot Guard Riders
X-ORIGINAL-URL:https://www.patriotguard.org
X-WR-CALDESC:Events for Patriot Guard Riders
BEGIN:VTIMEZONE
TZID:America/New_York
BEGIN:DAYLIGHT
TZOFFSETFROM:-0500
TZOFFSETTO:-0400
TZNAME:EDT
DTSTART:20160313T070000
END:DAYLIGHT
BEGIN:STANDARD
TZOFFSETFROM:-0400
TZOFFSETTO:-0500
TZNAME:EST
DTSTART:20161106T060000
END:STANDARD
END:VTIMEZONE
BEGIN:VEVENT
DTSTART;TZID=America/New_York:20160820T090000
DTEND;TZID=America/New_York:20160820T110000
DTSTAMP:20210512T024021
CREATED:20160820T130000Z
LAST-MODIFIED:20191201T143448Z
UID:409790-1471683600-1471690800@www.patriotguard.org
SUMMARY:Roger Dean Bahr\, 83\, USA
DESCRIPTION:CPL (T) Roger Dean Bahr\, 83\nUS ARMY Korea Veteran\nWashougal\, WA\n\n\n\nLadies and Gentlemen of the Patriot Guard Riders\, the family of US ARMY Veteran Roger Dean Bahr has asked us to stand in Honor of his life and service to our country at his graveside service and during Military Honors rendered by the US Army Honor Guard. \nRoger was inducted into the Army in MAR 1953 and served in the 160th Infantry Regiment as an infantryman.  Roger served overseas for 17 months and was honorably discharged FEB 1955.  During his service to our country Roger was awarded: Korean Service Medal\, United Nations Service Medal\, Republic of Korea Presidential Unit Citation\, National Defense Service Medal and the good conduct medal. \nPlease join me as we Honor this true American Hero from the greatest generation as well as support his family and friends. \nMISSION DATE: 20 AUG 2016 / Saturday \nMISSION PLAN: We will provide a flag line at the Graveside and during the military Honors portion of the burial service. \nSTAGING LOCATION:\nSafeway parking lo\n3307 Evergreen Blvd.\nWashougal\, WA. 98671 \nSCHEDULE:\n1030 – Staging\n1100 – Ride/mission briefing\n1115 – KSU for mission location\n1130 – Set up flag line\n1200 – Service begins.  Fade away after the burial service and Military Honors. \nRIDE CAPTAIN:\nMark “Big Bore” Smith\nsmithmjccfd10@aol.com \nSV/RCIT:\nWarren Besco\nwarrenbesco@gmail.com
URL:https://www.patriotguard.org/mission/roger-dean-bahr-83-usa/
CATEGORIES:Archive
END:VEVENT
END:VCALENDAR