BEGIN:VCALENDAR
VERSION:2.0
PRODID:-//Patriot Guard Riders - ECPv5.3.2.1//NONSGML v1.0//EN
CALSCALE:GREGORIAN
METHOD:PUBLISH
X-WR-CALNAME:Patriot Guard Riders
X-ORIGINAL-URL:https://www.patriotguard.org
X-WR-CALDESC:Events for Patriot Guard Riders
BEGIN:VTIMEZONE
TZID:America/New_York
BEGIN:DAYLIGHT
TZOFFSETFROM:-0500
TZOFFSETTO:-0400
TZNAME:EDT
DTSTART:20190310T070000
END:DAYLIGHT
BEGIN:STANDARD
TZOFFSETFROM:-0400
TZOFFSETTO:-0500
TZNAME:EST
DTSTART:20191103T060000
END:STANDARD
END:VTIMEZONE
BEGIN:VEVENT
DTSTART;VALUE=DATE:20190707
DTEND;VALUE=DATE:20190708
DTSTAMP:20210403T194942
CREATED:20190706T103844Z
LAST-MODIFIED:20190706T103844Z
UID:166737-1562457600-1562543999@www.patriotguard.org
SUMMARY:Roger Dale “Hunky” Hall
DESCRIPTION:Honor Mission\nRoger Dale “Hunky” Hall\, Veteran\, PGR\nUSAF – Vietnam\nJenkins\, Kentucky – 07-07-19\n\n\n\nABOUT THE MISSION: \nHe was a United States Air Force veteran of the Vietnam War. He served as Constable for twenty-six years and served as a law enforcement officer for over thirty years. He was a member of the following groups: Patriot Guard Riders\, American Legion\, Jenkins Masonic Lodge #856\n\n\nPRIMARY STAGING DETAILS: 07-07-19 \nStaging Time: 2:00 PM\n \nBurdine Freewill Baptist Church\n11549 Highway 805\nJenkins\, Kentucky 41537\n\n\nRide Captain: \nMarion Rogers\n606-794-6277\n\n\nSpecial Instructions: \n\n\nFlags & Water:\nFlags will be provided\nLarge Bike Flags will NOT be needed.\nWater WILL NOT be provided\, please bring your own.\n\n\n\nSubmitted By: Tom Folsom \nPosition: Kentucky State Captain \n\nNote: You do not have to own/ride a motorcycle or be a veteran to join\, and membership is Free. The only requirement is RESPECT! To subscribe to receive mission notices\, log into the National Site and click on the Members tab at the top. Select the Subscribe to PGR Missions option.\n Print This Page
URL:https://www.patriotguard.org/mission/roger-dale-hunky-hall/
CATEGORIES:Honor Mission
END:VEVENT
END:VCALENDAR