BEGIN:VCALENDAR
VERSION:2.0
PRODID:-//Patriot Guard Riders - ECPv5.3.2.1//NONSGML v1.0//EN
CALSCALE:GREGORIAN
METHOD:PUBLISH
X-WR-CALNAME:Patriot Guard Riders
X-ORIGINAL-URL:https://www.patriotguard.org
X-WR-CALDESC:Events for Patriot Guard Riders
BEGIN:VTIMEZONE
TZID:America/New_York
BEGIN:DAYLIGHT
TZOFFSETFROM:-0500
TZOFFSETTO:-0400
TZNAME:EDT
DTSTART:20190310T070000
END:DAYLIGHT
BEGIN:STANDARD
TZOFFSETFROM:-0400
TZOFFSETTO:-0500
TZNAME:EST
DTSTART:20191103T060000
END:STANDARD
END:VTIMEZONE
BEGIN:VEVENT
DTSTART;VALUE=DATE:20190608
DTEND;VALUE=DATE:20190609
DTSTAMP:20210405T041827
CREATED:20190608T020008Z
LAST-MODIFIED:20190608T020008Z
UID:163769-1559952000-1560038399@www.patriotguard.org
SUMMARY:Roger Black
DESCRIPTION:Honor Mission\nRoger Black\, Veteran\nUSN\nTrout Lake\, Washington – 06-08-19\n\n\n \n\nABOUT THE MISSION: \nThe family of Roger Black has requested the presence of the Patriot Guard Riders to honor Mr. Black’s service in the United States Navy. Mr. Black served on Active Duty from 12/Sept/1961 to 17/Aug/1965 followed by a Reserve commitment. He maintained skills servicing Jet Aircraft and received the Armed Forces Expeditionary Medal. Roger was stationed overseas 2 years 4 months of his nearly 4 year enlistment.\n\n\nPRIMARY STAGING DETAILS: 06-08-19 \nStaging Time: 12:30 pm\n \nTrout Lake High School\n2300 Hwy 141\n(far south end of parking lot prior to driveway. Next to grass strip)\nTrout Lake\, Washington 98650\n\n\nRide Captain: \nRod Runyon\nreckless.1@hotmail.com\n541-993-6413\n\n\nSpecial Instructions: \n12:15 KSU Ride Plan from Bridge Mart\, WA. end of Hood River Bridge Hwy 14\n1:00 Briefing at Trout Lake HS\n1:15 Flag Line\n2:00 Service\n2:10 Approximate Dismissal and Debrief following Military Honors.\nFlags & Water: Bring your 3×5 Flags. There will only be 3 or 4 extras Always carry water.\n\nFlags & Water:\nFlags will not be provided\nIf you have large bike flags\, please bring them.\nWater WILL NOT be provided\, please bring your own.\n\n\n\n\nSubmitted By: Sabrina Brown \nPosition: Washington State Captain \n\nNote: You do not have to own/ride a motorcycle or be a veteran to join\, and membership is Free. The only requirement is RESPECT! To subscribe to receive mission notices\, log into the National Site and click on the Members tab at the top. Select the Subscribe to PGR Missions option.\n Print This Page
URL:https://www.patriotguard.org/mission/roger-black/
CATEGORIES:Honor Mission
END:VEVENT
END:VCALENDAR