BEGIN:VCALENDAR
VERSION:2.0
PRODID:-//Patriot Guard Riders - ECPv5.6.0//NONSGML v1.0//EN
CALSCALE:GREGORIAN
METHOD:PUBLISH
X-WR-CALNAME:Patriot Guard Riders
X-ORIGINAL-URL:https://www.patriotguard.org
X-WR-CALDESC:Events for Patriot Guard Riders
BEGIN:VTIMEZONE
TZID:America/New_York
BEGIN:DAYLIGHT
TZOFFSETFROM:-0500
TZOFFSETTO:-0400
TZNAME:EDT
DTSTART:20210314T070000
END:DAYLIGHT
BEGIN:STANDARD
TZOFFSETFROM:-0400
TZOFFSETTO:-0500
TZNAME:EST
DTSTART:20211107T060000
END:STANDARD
END:VTIMEZONE
BEGIN:VEVENT
DTSTART;VALUE=DATE:20210511
DTEND;VALUE=DATE:20210512
DTSTAMP:20210511T123409
CREATED:20210509T164053Z
LAST-MODIFIED:20210509T164053Z
UID:576711-1620691200-1620777599@www.patriotguard.org
SUMMARY:Roger Alan Riggs
DESCRIPTION:Honor Mission\nRoger Alan Riggs\nUSN –\nSan Antonio\, Texas – 05-11-21\n\n\n\nABOUT THE MISSION: \nRoger Riggs enlisted in the US Navy in 1973 to serve his country.\n\n\nPRIMARY STAGING DETAILS: 05-11-21 \nStaging Time: 09:15 AM\n \nLowe’s Home Improvement\n1470 Austin Hwy\nSan Antonio\, Texas 78209\n\n\nRide Captain: \nPete “SeaDog” Johnson\npfjohn127@gmail.com\n\n\nSpecial Instructions: \nStaging: 9:15 AM\nBriefing: 9:30 AM\nKSU: 9:45 AM\nInterment: 10:15 AM at Fort Sam Houston National Cemetery\, 1520 Harry Wurzbach Rd\, San Antonio\, TX 78209.\nFace coverings must be worn at the staging area and cemetery.\n\n\nFlags & Water:\nFlags will be provided\nLarge Bike Flags will NOT be needed.\nWater will be provided.\n\n\nSubmitted By: Lisa Menard \nPosition: National Store Manager \n\nNote: You do not have to own/ride a motorcycle or be a veteran to join\, and membership is Free. The only requirement is RESPECT! To subscribe to receive mission notices\, log into the National Site and click on the Members tab at the top. Select the Subscribe to PGR Missions option.\n Print This Page
URL:https://www.patriotguard.org/mission/roger-alan-riggs/
CATEGORIES:Honor Mission
END:VEVENT
END:VCALENDAR