BEGIN:VCALENDAR
VERSION:2.0
PRODID:-//Patriot Guard Riders - ECPv5.3.2.1//NONSGML v1.0//EN
CALSCALE:GREGORIAN
METHOD:PUBLISH
X-WR-CALNAME:Patriot Guard Riders
X-ORIGINAL-URL:https://www.patriotguard.org
X-WR-CALDESC:Events for Patriot Guard Riders
BEGIN:VTIMEZONE
TZID:America/New_York
BEGIN:DAYLIGHT
TZOFFSETFROM:-0500
TZOFFSETTO:-0400
TZNAME:EDT
DTSTART:20190310T070000
END:DAYLIGHT
BEGIN:STANDARD
TZOFFSETFROM:-0400
TZOFFSETTO:-0500
TZNAME:EST
DTSTART:20191103T060000
END:STANDARD
END:VTIMEZONE
BEGIN:VEVENT
DTSTART;VALUE=DATE:20190418
DTEND;VALUE=DATE:20190419
DTSTAMP:20210404T181819
CREATED:20190417T043029Z
LAST-MODIFIED:20190417T043029Z
UID:157649-1555545600-1555631999@www.patriotguard.org
SUMMARY:Roger A. Geasland
DESCRIPTION:Honor Mission\nRoger A. Geasland \, Veteran\nUSAF \, USAR –\nFond du Lac\, Wisconsin – 04-18-19\n\n\n\n\nABOUT THE MISSION: \nRoger A. Geasland\, age 58\, of Fond du Lac\, passed away peacefully at UW Health University Hospital in Madison. Roger was born in Berlin\, Germany\, at the Andrew Barracks to George and Karin Geasland. Roger spent twelve years in the service. Six years in the US Air Force and six years in the Army National Reserves. He was proud to serve his county.\nThe above text comes from the Uecker Witt Funeral Home obituary which can be read in it’s entirety  here.\n\n\nPRIMARY STAGING DETAILS: 04-18-19 \nStaging Time: 12:00  \nUecker-Witt Funeral Home\n524 N. Park Avenue\nFond du Lac\, Wisconsin 54935\n\n\nRide Captain: \nPosted with no Ride Captain at this time due to short notice. Please be prepared with your own flag.Questions – contact State Captain John Curran jcurran516@aol.com\n\n\nSpecial Instructions: \nStaging 12:00 noon Visitation 1:00 p.m. – 5:00 p.m.Military Honors 5:00 p.m. No burial\n\nFlags & Water:\nFlags will not be provided\nLarge Bike Flags will NOT be needed.\nWater WILL NOT be provided\, please bring your own.\n\n\n\nSubmitted By: John Curran \nPosition: Wisconsin State Captain \n\nNote: You do not have to own/ride a motorcycle or be a veteran to join\, and membership is Free. The only requirement is RESPECT! To subscribe to receive mission notices\, log into the National Site and click on the Members tab at the top. Select the Subscribe to PGR Missions option.\n Print This Page
URL:https://www.patriotguard.org/mission/roger-a-geasland/
CATEGORIES:Honor Mission
END:VEVENT
END:VCALENDAR