BEGIN:VCALENDAR
VERSION:2.0
PRODID:-//Patriot Guard Riders - ECPv5.3.2.1//NONSGML v1.0//EN
CALSCALE:GREGORIAN
METHOD:PUBLISH
X-WR-CALNAME:Patriot Guard Riders
X-ORIGINAL-URL:https://www.patriotguard.org
X-WR-CALDESC:Events for Patriot Guard Riders
BEGIN:VTIMEZONE
TZID:America/New_York
BEGIN:DAYLIGHT
TZOFFSETFROM:-0500
TZOFFSETTO:-0400
TZNAME:EDT
DTSTART:20190310T070000
END:DAYLIGHT
BEGIN:STANDARD
TZOFFSETFROM:-0400
TZOFFSETTO:-0500
TZNAME:EST
DTSTART:20191103T060000
END:STANDARD
END:VTIMEZONE
BEGIN:VEVENT
DTSTART;VALUE=DATE:20190911
DTEND;VALUE=DATE:20190912
DTSTAMP:20210401T140951
CREATED:20190908T191319Z
LAST-MODIFIED:20190908T191319Z
UID:173070-1568160000-1568246399@www.patriotguard.org
SUMMARY:Rodney Sheets
DESCRIPTION:Honor Mission\nRodney Sheets\, Veteran\, PGR\nUSA – Vietnam\nLexington\, Kentucky – 09-11-19\n\n\n\nABOUT THE MISSION: \nThe family of Mr. Rodney Sheets has requested Patriot Guard to stand in honor of their hero and escort him to his final resting home at Camp Nelson National Cemetery. Mr. Sheets\, Army Veteran and member of the 173rd Airborne Brigade\, proudly served his country during the Vietnam War and earned a Bronze Star. He continued to serve his fellow Veterans throughout the years through Thomson Hood Veterans Home\, Patriot Guard\, Run For the Wall\, and so many others.\nObituary\n\n\nPRIMARY STAGING DETAILS: 09-11-19 \nStaging Time: 10:00 AM\n \nKerr Brothers Funeral Home\n3421 Harrodsburg Road\nLexington\, Kentucky 40513\n\n\nRide Captain: \nKelli Oakley\n859-433-6495\nkellioakley@yahoo.com\n\n\nSpecial Instructions: \nVisitation: 10:30am\nService: 12:30pm.\nEscort to Camp Nelson National Cemetery with service at 1:30pm.\n\n\nFlags & Water:\nFlags will be provided\nIf you have large bike flags\, please bring them.\nWater will be provided.\n\n\n\nSubmitted By: Kelli Oakley \nPosition: Kentucky Ride Captain \n\nNote: You do not have to own/ride a motorcycle or be a veteran to join\, and membership is Free. The only requirement is RESPECT! To subscribe to receive mission notices\, log into the National Site and click on the Members tab at the top. Select the Subscribe to PGR Missions option.\n Print This Page
URL:https://www.patriotguard.org/mission/rodney-sheets/
CATEGORIES:Honor Mission
END:VEVENT
END:VCALENDAR