BEGIN:VCALENDAR
VERSION:2.0
PRODID:-//Patriot Guard Riders - ECPv5.3.2.1//NONSGML v1.0//EN
CALSCALE:GREGORIAN
METHOD:PUBLISH
X-WR-CALNAME:Patriot Guard Riders
X-ORIGINAL-URL:https://www.patriotguard.org
X-WR-CALDESC:Events for Patriot Guard Riders
BEGIN:VTIMEZONE
TZID:America/New_York
BEGIN:DAYLIGHT
TZOFFSETFROM:-0500
TZOFFSETTO:-0400
TZNAME:EDT
DTSTART:20190310T070000
END:DAYLIGHT
BEGIN:STANDARD
TZOFFSETFROM:-0400
TZOFFSETTO:-0500
TZNAME:EST
DTSTART:20191103T060000
END:STANDARD
END:VTIMEZONE
BEGIN:VEVENT
DTSTART;VALUE=DATE:20190726
DTEND;VALUE=DATE:20190728
DTSTAMP:20210403T180440
CREATED:20190724T201048Z
LAST-MODIFIED:20190724T201048Z
UID:168647-1564099200-1564271999@www.patriotguard.org
SUMMARY:Rodney Ford
DESCRIPTION:Honor Mission\nRodney Ford\, Veteran\nUSN – GW/ODS\nUtica\, Mississippi – 07-26-19\n\n\n\nABOUT THE MISSION: \n2nd Class Petty Officer Ford joined the U.S. Navy and proudly and honorably served on the USS James K . Polk for seven years. His service concluded at end of Operation Desert Storm. He attended DAMP Adv Trng and was a Quality Insurance Inspector and Missile and Missile Checkout Technician Poseidon SSBN. Medals and ribbons include Letter of Commendation\, Enlisted Submarine Warfare Breast Insignia (Dolphins)\, SSBN Deterrent Patrol Pin w/4 Gold Stars\, Sea Service Deployment Ribbon\, Good Conduct Medal\, Battle Efficiency National Defense Medal.\n\n\nPRIMARY STAGING DETAILS: 07-26-19 \nStaging Time: 4:15 PM\n \nUtica Baptist Church\n220 E. Main\nUtica\, Mississippi 39175\n\n\nRide Captain: \nJustin Moudy\n601-415-0230\n\n\nSpecial Instructions: \n\n\nFlags & Water:\nFlags will be provided\nLarge Bike Flags will NOT be needed.\nWater WILL NOT be provided\, please bring your own.\n\nSTAGING #2 DETAILS: 07-27-19 \nStaging Time: 10:15 AM\n \nUtica Baptist Church\n220 E. Main\nUtica\, Mississippi 39175\n\n\nRide Captain: \nJustin Moudy\n601-415-0230\n\n\nSpecial Instructions: \n\n\nFlags & Water:\nFlags will be provided\nLarge Bike Flags will NOT be needed.\nWater WILL NOT be provided\, please bring your own.\n\n\n\nSubmitted By: Roger Barrett \nPosition: Mississippi State Captain \n\nNote: You do not have to own/ride a motorcycle or be a veteran to join\, and membership is Free. The only requirement is RESPECT! To subscribe to receive mission notices\, log into the National Site and click on the Members tab at the top. Select the Subscribe to PGR Missions option.\n Print This Page
URL:https://www.patriotguard.org/mission/rodney-ford/
CATEGORIES:Honor Mission
END:VEVENT
END:VCALENDAR