BEGIN:VCALENDAR
VERSION:2.0
PRODID:-//Patriot Guard Riders - ECPv5.3.2.1//NONSGML v1.0//EN
CALSCALE:GREGORIAN
METHOD:PUBLISH
X-WR-CALNAME:Patriot Guard Riders
X-ORIGINAL-URL:https://www.patriotguard.org
X-WR-CALDESC:Events for Patriot Guard Riders
BEGIN:VTIMEZONE
TZID:America/New_York
BEGIN:DAYLIGHT
TZOFFSETFROM:-0500
TZOFFSETTO:-0400
TZNAME:EDT
DTSTART:20190310T070000
END:DAYLIGHT
BEGIN:STANDARD
TZOFFSETFROM:-0400
TZOFFSETTO:-0500
TZNAME:EST
DTSTART:20191103T060000
END:STANDARD
END:VTIMEZONE
BEGIN:VEVENT
DTSTART;VALUE=DATE:20190718
DTEND;VALUE=DATE:20190719
DTSTAMP:20210403T202337
CREATED:20190715T221126Z
LAST-MODIFIED:20190715T221126Z
UID:167756-1563408000-1563494399@www.patriotguard.org
SUMMARY:Rodney “El-Rod” Hale
DESCRIPTION:Honor Mission\nRodney “El-Rod” Hale\, Veteran\, PGR\nUSMC – Vietnam\nSaint Peters\, Missouri – 07-18-19\n\n\n\n\nABOUT THE MISSION: \nThe Patriot Guard Riders have been requested to honor one of our Patriot Guard Brothers and a revered member of the United States Marine Corps.  Please join in standing a flag line of honor and respect for fallen PGR member and veteran\, Rodney “El-Rod” Hale. “El-Rod” joined the Marine Corps at the young age of eighteen and served from 1973 to 1977 as a Field Radio Operator.  He achieved the rank of Sergeant and earned the National Defense Service Medal and the Good Conduct Medal. As an active PGR member\, “El-Rod” was a fixture at Honor Flights and the Snowball Express and could always be seen handing out flag pins to the kids. He is survived by his two daughters.  This is visitation only.  Come and go as you can!  Internment escort mission will be posted separately.\n\n\nPRIMARY STAGING DETAILS: 07-18-19 \nStaging Time: 2:00 pm \nAlternative Funeral & Cremation Services\n2115 Parkway Drive\nSaint Peters\, Missouri 63376\n\n\nRide Captain: \nRon “Pete” Peterson\nron.peterson@charter.net\n636.443.9643\n\n\nSpecial Instructions: \nFlag Line:  2:15 P.M. – 7:00 P.M.\nFlag Support: Danny “Wolfman” Reinbold\nWeather is projected to be a high of 96* with a 10% chance of rain. Cages are always welcome. HYDRATE HYDRATE HYDRATE.\n\nFlags & Water:\nFlags will be provided\nLarge Bike Flags will NOT be needed.\nWater will be provided.\n\n\n\n\nSubmitted By: Ronald Peterson \nPosition: Missouri Ride Captain \n\nNote: You do not have to own/ride a motorcycle or be a veteran to join\, and membership is Free. The only requirement is RESPECT! To subscribe to receive mission notices\, log into the National Site and click on the Members tab at the top. Select the Subscribe to PGR Missions option.\n Print This Page
URL:https://www.patriotguard.org/mission/rodney-el-rod-hale/
CATEGORIES:Honor Mission
END:VEVENT
END:VCALENDAR