BEGIN:VCALENDAR
VERSION:2.0
PRODID:-//Patriot Guard Riders - ECPv5.3.2.1//NONSGML v1.0//EN
CALSCALE:GREGORIAN
METHOD:PUBLISH
X-WR-CALNAME:Patriot Guard Riders
X-ORIGINAL-URL:https://www.patriotguard.org
X-WR-CALDESC:Events for Patriot Guard Riders
BEGIN:VTIMEZONE
TZID:America/New_York
BEGIN:DAYLIGHT
TZOFFSETFROM:-0500
TZOFFSETTO:-0400
TZNAME:EDT
DTSTART:20190310T070000
END:DAYLIGHT
BEGIN:STANDARD
TZOFFSETFROM:-0400
TZOFFSETTO:-0500
TZNAME:EST
DTSTART:20191103T060000
END:STANDARD
END:VTIMEZONE
BEGIN:VEVENT
DTSTART;VALUE=DATE:20190927
DTEND;VALUE=DATE:20190928
DTSTAMP:20210401T013526
CREATED:20190923T004843Z
LAST-MODIFIED:20190923T004843Z
UID:175942-1569542400-1569628799@www.patriotguard.org
SUMMARY:Roberts W. Sterling
DESCRIPTION:Honor Mission\nRoberts W. Sterling\, Retired\nUSN – Vietnam\nMULTI-CITY\, South Carolina – 09-27-19\n\n\n\nABOUT THE MISSION: \nThe Family of Mr. Roberts W. Sterling has requested the Patriot Guard participate at his funeral and escort him to his final resting place. He served in the Navy\, retiring with the rank of Master Chief Petty Officer\, and served five tours in Vietnam as a Navy Advisor at Military Assistance Command.\n\n\nPRIMARY STAGING DETAILS: 09-27-19 \nStaging Time: 11:00 AM\n \nSauls Funeral Home\n90 Simpsonville Rd\nBlufton\, South Carolina 29910\nMap\n\n\nRide Captain: \nBob Wagner\n843-368-1920\nrobert.wagner.45sc@gmail.com\n\nFlag Wagon: Bob Gillihan\, 817-319-8592\, bgilli656@att.net\n\n\nSpecial Instructions: \nBrief: 1115 (11:15 AM)\nFollowing the briefing we will stand a flag line which will be held until the beginning of the funeral service\, at which time we will stand down and prepare for the escort to Beaufort National Cemetery.\n\n\nFlags & Water:\nFlags will be provided\nIf you have large bike flags\, please bring them.\nWater will be provided.\n\nSTAGING #2 DETAILS: 09-27-19 \nStaging Time: 1:15 PM\n \nBeaufort National Cemetery\n1601 Boundary St.\nBeaufort\, South Carolina 29902\nMap\n\n\nRide Captain: \nBob Wagner\n843-368-1920\nrobert.wagner.45sc@gmail.com\n\n\nSpecial Instructions: \nUpon arrival of the escort at the Committal Shelter we will establish a flag line and hold it until the completion of the Committal Service.\n\n\nFlags & Water:\nFlags will be provided\nLarge Bike Flags will NOT be needed.\nWater will be provided.\n\n\n\nSubmitted By: Ray Richards \nPosition: South Carolina Assistant State Captain \n\nNote: You do not have to own/ride a motorcycle or be a veteran to join\, and membership is Free. The only requirement is RESPECT! To subscribe to receive mission notices\, log into the National Site and click on the Members tab at the top. Select the Subscribe to PGR Missions option.\n Print This Page
URL:https://www.patriotguard.org/mission/roberts-w-sterling/
CATEGORIES:Honor Mission
END:VEVENT
END:VCALENDAR