BEGIN:VCALENDAR
VERSION:2.0
PRODID:-//Patriot Guard Riders - ECPv5.6.0//NONSGML v1.0//EN
CALSCALE:GREGORIAN
METHOD:PUBLISH
X-WR-CALNAME:Patriot Guard Riders
X-ORIGINAL-URL:https://www.patriotguard.org
X-WR-CALDESC:Events for Patriot Guard Riders
BEGIN:VTIMEZONE
TZID:America/New_York
BEGIN:DAYLIGHT
TZOFFSETFROM:-0500
TZOFFSETTO:-0400
TZNAME:EDT
DTSTART:20160313T070000
END:DAYLIGHT
BEGIN:STANDARD
TZOFFSETFROM:-0400
TZOFFSETTO:-0500
TZNAME:EST
DTSTART:20161106T060000
END:STANDARD
END:VTIMEZONE
BEGIN:VEVENT
DTSTART;TZID=America/New_York:20160804T090000
DTEND;TZID=America/New_York:20160804T110000
DTSTAMP:20210511T192353
CREATED:20160804T130000Z
LAST-MODIFIED:20191201T143913Z
UID:410201-1470301200-1470308400@www.patriotguard.org
SUMMARY:Robert William Jenkins\, USA Veteran / Ozark
DESCRIPTION:Robert (Bob) William Jenkins\, CWO3\, U.S. Army\n\nDate: Thursday\, August 4\, 2016 \nService Time:  11:00 am  \nServices at: Prince of Peace Lutheran Church\, 2454 Andrews Ave\, Ozark\, AL 36360.\nInterment: Woodlawn Memory Gardens\, 231 N\, Ozark.\nVisitation: 5:00 pm until 7:00 pm Wednesday evening.   \nThe family of Bob Jenkins has requested the  Patriot Guard to stand in silent honor for their loved one. It will be  an honor to stand the flag line for another of our countries best. \nOZARK STAGING: Behind Hardee’s parking lot on Andrews Ave.\nSTAGING:   9:30 am\nKSU:       9:45 am\n\nFlags/Support: Ross Jones\n\nRC: Pat Miller\, pmiller5@sw.rr.com\, 334-709-4238 \nWEATHER: Slight chance of rain with temperatures in the 90’s. Ensure you hydrate and be safe.
URL:https://www.patriotguard.org/mission/robert-william-jenkins-usa-veteran-ozark/
CATEGORIES:Archive
END:VEVENT
END:VCALENDAR