BEGIN:VCALENDAR
VERSION:2.0
PRODID:-//Patriot Guard Riders - ECPv5.3.2.1//NONSGML v1.0//EN
CALSCALE:GREGORIAN
METHOD:PUBLISH
X-WR-CALNAME:Patriot Guard Riders
X-ORIGINAL-URL:https://www.patriotguard.org
X-WR-CALDESC:Events for Patriot Guard Riders
BEGIN:VTIMEZONE
TZID:America/New_York
BEGIN:DAYLIGHT
TZOFFSETFROM:-0500
TZOFFSETTO:-0400
TZNAME:EDT
DTSTART:20170312T070000
END:DAYLIGHT
BEGIN:STANDARD
TZOFFSETFROM:-0400
TZOFFSETTO:-0500
TZNAME:EST
DTSTART:20171105T060000
END:STANDARD
END:VTIMEZONE
BEGIN:VEVENT
DTSTART;TZID=America/New_York:20171020T171500
DTEND;TZID=America/New_York:20171020T191500
DTSTAMP:20210405T203925
CREATED:20171020T211500Z
LAST-MODIFIED:20191201T035147Z
UID:346668-1508519700-1508526900@www.patriotguard.org
SUMMARY:Robert Warren Dixon\, Veteran\, USAF
DESCRIPTION:Robert Warren Dixon\, Veteran\nUSAF\nDallas\, Texas – 20 Oct 2017\n\n\n[HR][/HR]\nABOUT THE MISSION: \n\nThe family of Mr. Dixon has asked that the  Patriot Guard take part in the celebration of his life and devotion to  Country by receiving family and guests and standing a flag line at his  inurnment service.\n\n\nPRIMARY STAGING DETAILS:  20 Oct 2017\nPrimary Staging Time: 1415 P.M. \n\nDallas-Fort Worth National Cemetery\n2000 Mountain Creek Parkway\nDallas\, Texas – 75211\nhttps://goo.gl/maps/X4zaD4UhWXw\n\n\nRide Captain: \n\nJohn Bartis\nj.bartis2@gmail.com\n(636) 544-7669\n\n\nSpecial Instructions: \n\nFollowing a  briefing at the Cemetery Visitor’s Center\, Honor Bikes will be selected  and positioned in the appropriate staging lane to provide a final escort  for Mr. Dixon. Remaining Riders will proceed to the designated shelter\,  establish a flag line and prepare to receive our veteran\, family and  guests. At the conclusion of the inurnment service\, and at a Ride  Captain’s direction\, flags will be retired and stowed before riders are  then debriefed and dismissed.\n\n\nFlags & Water: \n\nFlags Will Be Provided\nIf you have large bike flags\, please bring them.\nWater WILL NOT be provided\, please bring your own.\n\n\nSubmitted By: M. B. Ingersoll\nPosition: Ride Captain\n[HR][/HR]Note:\nYou do not have to own/ride a motorcycle or be a Veteran to join and membership is Free. The only requirement is RESPECT! To join\, simply go to www.PatriotGuard.org and click on Register. Membership is Free. \nTo subscribe to receive mission notices\, log into the National Site and click on the Mission Tab at the top. Select the Subscribe to Missions option.
URL:https://www.patriotguard.org/mission/robert-warren-dixon-veteran-usaf/
END:VEVENT
END:VCALENDAR