BEGIN:VCALENDAR
VERSION:2.0
PRODID:-//Patriot Guard Riders - ECPv5.3.2.1//NONSGML v1.0//EN
CALSCALE:GREGORIAN
METHOD:PUBLISH
X-WR-CALNAME:Patriot Guard Riders
X-ORIGINAL-URL:https://www.patriotguard.org
X-WR-CALDESC:Events for Patriot Guard Riders
BEGIN:VTIMEZONE
TZID:America/New_York
BEGIN:DAYLIGHT
TZOFFSETFROM:-0500
TZOFFSETTO:-0400
TZNAME:EDT
DTSTART:20190310T070000
END:DAYLIGHT
BEGIN:STANDARD
TZOFFSETFROM:-0400
TZOFFSETTO:-0500
TZNAME:EST
DTSTART:20191103T060000
END:STANDARD
END:VTIMEZONE
BEGIN:VEVENT
DTSTART;VALUE=DATE:20190904
DTEND;VALUE=DATE:20190905
DTSTAMP:20210401T103433
CREATED:20190902T163216Z
LAST-MODIFIED:20190902T163216Z
UID:172470-1567555200-1567641599@www.patriotguard.org
SUMMARY:Robert W Nugent
DESCRIPTION:Honor Mission\nRobert W Nugent\, Retired\nUSA\, ARNG – Vietnam\nPineville\, Louisiana – 09-04-19\n\n\n\nABOUT THE MISSION: \nThe PGR will stand in honor of Mr Nugent. After his service in Vietnam Mr Nugent enlisted in the Louisiana Army National Guard and retired in 2002. He is survived by his wife\, 3 daughters and 2 sons\n\n\nPRIMARY STAGING DETAILS: 09-04-19 \nStaging Time: 11:45 am\n \nHixson Brothers Funeral Home\n2701 Military Hwy\nPineville\, Louisiana 71360\n\n\nRide Captain: \nRonnie “MY TIME” Toney\nronald\,toney56@gmail.com\n\nCarlton “BRAKES” Sanburn\ncarltonsanburn@bellsouth.net\n\n\nSpecial Instructions: \nWe will stand a flag line from 12:00 till time of services at 1:00\, There will be about a 7 mile escort to the cemetery for final interment\n\n\nFlags & Water:\nFlags will be provided\nIf you have large bike flags\, please bring them.\nWater will be provided.\n\nSubmitted By: Kenny Case \nPosition: Dixie Regional Captain \n\nNote: You do not have to own/ride a motorcycle or be a veteran to join\, and membership is Free. The only requirement is RESPECT! To subscribe to receive mission notices\, log into the National Site and click on the Members tab at the top. Select the Subscribe to PGR Missions option.\n Print This Page
URL:https://www.patriotguard.org/mission/robert-w-nugent/
CATEGORIES:Honor Mission
END:VEVENT
END:VCALENDAR