BEGIN:VCALENDAR
VERSION:2.0
PRODID:-//Patriot Guard Riders - ECPv5.6.0//NONSGML v1.0//EN
CALSCALE:GREGORIAN
METHOD:PUBLISH
X-WR-CALNAME:Patriot Guard Riders
X-ORIGINAL-URL:https://www.patriotguard.org
X-WR-CALDESC:Events for Patriot Guard Riders
BEGIN:VTIMEZONE
TZID:America/New_York
BEGIN:DAYLIGHT
TZOFFSETFROM:-0500
TZOFFSETTO:-0400
TZNAME:EDT
DTSTART:20160313T070000
END:DAYLIGHT
BEGIN:STANDARD
TZOFFSETFROM:-0400
TZOFFSETTO:-0500
TZNAME:EST
DTSTART:20161106T060000
END:STANDARD
END:VTIMEZONE
BEGIN:VEVENT
DTSTART;TZID=America/New_York:20160713T090000
DTEND;TZID=America/New_York:20160713T110000
DTSTAMP:20210512T215424
CREATED:20160713T130000Z
LAST-MODIFIED:20191201T144439Z
UID:410700-1468400400-1468407600@www.patriotguard.org
SUMMARY:Robert W. Clinesmith\, 73\, USA-Vietnam\, LEO / Vassar
DESCRIPTION:The Patriot Guard Riders have been invited by the family to stand a silent flag line in honor of Mr. Clinesmith’s service to our country. Robert served two tours in Vietnam from 1963 to 1965 attaining the rank of Specialist 4th class.  Mr. Clinesmith served in the 1st Infantry Division\, Armor\, the Big Red One. Bob was a life member of American Legion Post 400\, Charter member of the Knights of Columbus\, and V. President of the Vassar Veterans Military support group.  Robert also served as a reserve police officer for the city of Vassar. Surviving are his wife of 51 years Donna\, four children\, and many extended family. Please join us to honor Mr. Clinesmith’s service\, and support their family in this time of grief.\n\nThis mission has three segments\, ALL on Wednesday\, July 13.  Please feel free to join us at any or all of them\, please peruse detail for each below. \nWednesday\, July 13\, 2016 \nService: \nSt. Francis X Cabrini Catholic Church\n334 Division St.\nVassar\, MI. 48768 \nStage: 9:15 AM\nBrief:   9:45 AM\nFlag Line: 10:00 AM to 11:00 AM (Time of Service) \nWe will stand a one hour flag line for Mr. Clinesmith\, and stand for honors after the service.  The family has requested an escort to Great Lakes National Cemetery. You must be at the briefing if you wish to participate in the escort\, please insure you and your bike accessories can withstand Michigan highway speeds.  Please bring your 3 x 5 American flags to stand for Mr. Clinesmith. \nEscort location: \nSt. Francis X Cabrini Catholic Church\n334 Division St.\nVassar\, MI. 48768 \nStage: 12:10 PM\nBrief:   12:30 PM\nK.S.U. 12:45 PM \nThe escort will be led by funeral vehicles on Michigan State highways to Great Lakes National Cemetery.   \nRC: John and Diane Mulvaney\n       989 295 4419 \nInterment Location:\nGreat Lakes National Cemetery \nStage Location:\nMcDonald’s\n15187 N. Holly Road\nHolly\, Mi.  48442 \nStage: 12:50 PM\nBrief:    1:20 PM\nK.S.U.  1:40 PM \nRC: Boz: 586 899 0518 \nPlease bring your 3 x 5 American flags to stand for Mr. Clinesmith \nPlease call the Ride Captain if you have any questions.
URL:https://www.patriotguard.org/mission/robert-w-clinesmith-73-usa-vietnam-leo-vassar/
CATEGORIES:Archive
END:VEVENT
END:VCALENDAR