BEGIN:VCALENDAR
VERSION:2.0
PRODID:-//Patriot Guard Riders - ECPv5.3.2.1//NONSGML v1.0//EN
CALSCALE:GREGORIAN
METHOD:PUBLISH
X-WR-CALNAME:Patriot Guard Riders
X-ORIGINAL-URL:https://www.patriotguard.org
X-WR-CALDESC:Events for Patriot Guard Riders
BEGIN:VTIMEZONE
TZID:America/New_York
BEGIN:DAYLIGHT
TZOFFSETFROM:-0500
TZOFFSETTO:-0400
TZNAME:EDT
DTSTART:20190310T070000
END:DAYLIGHT
BEGIN:STANDARD
TZOFFSETFROM:-0400
TZOFFSETTO:-0500
TZNAME:EST
DTSTART:20191103T060000
END:STANDARD
END:VTIMEZONE
BEGIN:VEVENT
DTSTART;VALUE=DATE:20190711
DTEND;VALUE=DATE:20190712
DTSTAMP:20210404T025343
CREATED:20190709T212007Z
LAST-MODIFIED:20190709T212007Z
UID:167160-1562803200-1562889599@www.patriotguard.org
SUMMARY:Robert Vanderford
DESCRIPTION:Honor Mission\nRobert Vanderford\nUSAF –\nMayfield\, Kentucky – 07-11-19\n\n\n  \n\nABOUT THE MISSION: \nMr Vanderford was a Vietnam Era Veteran who served in the U. S. Air Force\n\n\nPRIMARY STAGING DETAILS: 07-11-19 \nStaging Time: 9:45 am  \nPocket Shell\n1009 Paris Rd\nMayfield\, Kentucky 42066\n\n\nRide Captain: \nDan Bondurant\n270-705-0307\ndanbondurant@bellsouth.net\n\n\nSpecial Instructions: \n\n\nFlags & Water:\nFlags will be provided\nLarge Bike Flags will NOT be needed.\nWater WILL NOT be provided\, please bring your own.\n\nSTAGING #2 DETAILS: 07-11-19 \nStaging Time: 10:40  am\n \nPleasant View Memorial Gardens\n900 HWY 51 North\n2-3 miles North of Fulton on the Left\nWill be 1st Cemetery on your left\nFulton\, Kentucky 42041\n\n\nRide Captain: \nDan Bondurant\n270-705-0307\ndanbondurant@bellsouth.net\n\n\nSpecial Instructions: \nThis will be the 2nd part of this Mission. We did the Funeral a couple of weeks ago. Now we will be doing a Private Family Service at Mr Vanderford’s Burial.\n\nFlags & Water:\nFlags will be provided\nLarge Bike Flags will NOT be needed.\nWater WILL NOT be provided\, please bring your own.\n\n\n\nSubmitted By: Dan Bondurant \nPosition: Kentucky Ride Captain \n\nNote: You do not have to own/ride a motorcycle or be a veteran to join\, and membership is Free. The only requirement is RESPECT! To subscribe to receive mission notices\, log into the National Site and click on the Members tab at the top. Select the Subscribe to PGR Missions option.\n Print This Page
URL:https://www.patriotguard.org/mission/robert-vanderford-2/
CATEGORIES:Honor Mission
END:VEVENT
END:VCALENDAR