BEGIN:VCALENDAR
VERSION:2.0
PRODID:-//Patriot Guard Riders - ECPv5.3.2.1//NONSGML v1.0//EN
CALSCALE:GREGORIAN
METHOD:PUBLISH
X-WR-CALNAME:Patriot Guard Riders
X-ORIGINAL-URL:https://www.patriotguard.org
X-WR-CALDESC:Events for Patriot Guard Riders
BEGIN:VTIMEZONE
TZID:America/New_York
BEGIN:DAYLIGHT
TZOFFSETFROM:-0500
TZOFFSETTO:-0400
TZNAME:EDT
DTSTART:20190310T070000
END:DAYLIGHT
BEGIN:STANDARD
TZOFFSETFROM:-0400
TZOFFSETTO:-0500
TZNAME:EST
DTSTART:20191103T060000
END:STANDARD
END:VTIMEZONE
BEGIN:VEVENT
DTSTART;VALUE=DATE:20190607
DTEND;VALUE=DATE:20190608
DTSTAMP:20210405T002239
CREATED:20190607T030100Z
LAST-MODIFIED:20190607T030100Z
UID:163722-1559865600-1559951999@www.patriotguard.org
SUMMARY:Robert Tyler Davis\, Jr.
DESCRIPTION:Honor Mission\nRobert Tyler Davis\, Jr.\, Veteran\nUSMC\nGrand Prairie\, Texas – 06-07-19\n\n\n \n\nABOUT THE MISSION: \nRobert Tyler Davis\, Jr. honorably served in the United States Marine Corps from 1972 until 1975.\n\n\nPRIMARY STAGING DETAILS: 06-07-19 \nStaging Time: 12:00 pm\n \nGrand Prairie Funeral Home and Chapel\n733 Dalworth St\nGrand Prairie\, Texas 75050\n\n\nRide Captain: \nPerry Sampley\npsampley@msn.com\n(214) 334-7417\n\n\nSpecial Instructions: \nBriefing Time: 12:15\nIn Position/KSU Time: 12:30\nStarting Time: 1:00\nAfter the Mission Brief\, the Riders will establish the Flag Line and await the arrival of the family and friends of Mr. Davis. When directed\, the Riders will return the flags to the support vehicle\, receive the Safety Brief and prepare to accompany the procession to the cemetery. Riders not participating in the procession may proceed to the DFW National Cemetery and assist with setting up the flags. Procession: Escort Provided\n\nFlags & Water:\nFlags will be provided\nIf you have large bike flags\, please bring them.\nWater will be provided.\n\nSTAGING #2 DETAILS: 06-07-19 \nStaging Time:  2:15 pm\n \nDFW National Cemetery\n2000 Mountain Creek Pkwy\nDallas\, Texas 75211\n\n\nRide Captain: \nPerry Sampley\npsampley@msn.com\n(214) 334-7417\n\n\nSpecial Instructions: \nBriefing Time: 2:30 pm\nIn Position/KSU Time: 2:45 pm\nStarting Time: 3:00 pm\nAfter the Mission Briefing\, honor bikes\, if needed\, will be identified and moved to the staging lane. Remaining Riders will proceed to the designated shelter\, set the flags and prepare to receive the family and friends of Mr. Davis. When directed\, the Riders will return the flags to storage and then be debriefed and dismissed.\n\nFlags & Water:\nFlags will be provided\nIf you have large bike flags\, please bring them.\nWater WILL NOT be provided\, please bring your own.\n\n\n\nSubmitted By: Dan Mathys \nPosition: Texas Ride Captain \n\nNote: You do not have to own/ride a motorcycle or be a veteran to join\, and membership is Free. The only requirement is RESPECT! To subscribe to receive mission notices\, log into the National Site and click on the Members tab at the top. Select the Subscribe to PGR Missions option.\n Print This Page
URL:https://www.patriotguard.org/mission/robert-tyler-davis-jr/
CATEGORIES:Honor Mission
END:VEVENT
END:VCALENDAR