BEGIN:VCALENDAR
VERSION:2.0
PRODID:-//Patriot Guard Riders - ECPv5.3.2.1//NONSGML v1.0//EN
CALSCALE:GREGORIAN
METHOD:PUBLISH
X-WR-CALNAME:Patriot Guard Riders
X-ORIGINAL-URL:https://www.patriotguard.org
X-WR-CALDESC:Events for Patriot Guard Riders
BEGIN:VTIMEZONE
TZID:America/New_York
BEGIN:DAYLIGHT
TZOFFSETFROM:-0500
TZOFFSETTO:-0400
TZNAME:EDT
DTSTART:20190310T070000
END:DAYLIGHT
BEGIN:STANDARD
TZOFFSETFROM:-0400
TZOFFSETTO:-0500
TZNAME:EST
DTSTART:20191103T060000
END:STANDARD
END:VTIMEZONE
BEGIN:VEVENT
DTSTART;VALUE=DATE:20190817
DTEND;VALUE=DATE:20190818
DTSTAMP:20210402T081702
CREATED:20190815T021925Z
LAST-MODIFIED:20190815T021925Z
UID:170978-1566000000-1566086399@www.patriotguard.org
SUMMARY:Robert Taylor
DESCRIPTION:Honor Mission\nRobert Taylor\nUSA –\nMauldin\, South Carolina – 08-17-19\n\n\n\nABOUT THE MISSION: \nThe Patriot Guard Riders have been requested to honor the service of Robert Taylor. We will honor that request. This is a one part mission.\n\n\nPRIMARY STAGING DETAILS: 08-17-19 \nStaging Time: 09:00 AM\n \nFirst Baptist Church Mauldin\n150 S Main St.\nMauldin\, South Carolina 29662\nMap\n\n\nRide Captain: \nIndia Rackley\n864-704-2132\nindiarackley@gmail.com\n\n\nSpecial Instructions: \nFlag Line: 09:30 AM\nAfter the brief we will stand up the flag line and await the arrival of family.\nWe will maintain the flag line for the visitation from 10:00-11:30.\nOnce the service starts at 12:00\, we will quietly depart.\n\n\nFlags & Water:\nFlags will be provided\nLarge Bike Flags will NOT be needed.\nWater will be provided.\n\n\nSubmitted By: L.Z. Harrison\, Jr. \nPosition: South Carolina Assistant State Captain \n\nNote: You do not have to own/ride a motorcycle or be a veteran to join\, and membership is Free. The only requirement is RESPECT! To subscribe to receive mission notices\, log into the National Site and click on the Members tab at the top. Select the Subscribe to PGR Missions option.\n Print This Page
URL:https://www.patriotguard.org/mission/robert-taylor/
CATEGORIES:Honor Mission
END:VEVENT
END:VCALENDAR