BEGIN:VCALENDAR
VERSION:2.0
PRODID:-//Patriot Guard Riders - ECPv5.3.2.1//NONSGML v1.0//EN
CALSCALE:GREGORIAN
METHOD:PUBLISH
X-WR-CALNAME:Patriot Guard Riders
X-ORIGINAL-URL:https://www.patriotguard.org
X-WR-CALDESC:Events for Patriot Guard Riders
BEGIN:VTIMEZONE
TZID:America/New_York
BEGIN:DAYLIGHT
TZOFFSETFROM:-0500
TZOFFSETTO:-0400
TZNAME:EDT
DTSTART:20190310T070000
END:DAYLIGHT
BEGIN:STANDARD
TZOFFSETFROM:-0400
TZOFFSETTO:-0500
TZNAME:EST
DTSTART:20191103T060000
END:STANDARD
END:VTIMEZONE
BEGIN:VEVENT
DTSTART;VALUE=DATE:20190621
DTEND;VALUE=DATE:20190622
DTSTAMP:20210405T031028
CREATED:20190621T013620Z
LAST-MODIFIED:20190621T013620Z
UID:165400-1561075200-1561161599@www.patriotguard.org
SUMMARY:Robert Rodolpho Rodriguez
DESCRIPTION:Honor Mission\nRobert Rodolpho Rodriguez\, Veteran\nUSA – Vietnam\nMULTI-CITY\, Texas – 06-21-19\n\n\n\nABOUT THE MISSION: \nRobert Rodolpho Rodriguez\, 75\, of Dickinson\, passed away peacefully on Father’s Day at his home surrounded by his loved ones. He was a 1963 graduate of Ball High School where his initial love of the military began while in the Junior R.O.T.C. club. He proudly served his country in the U.S. Army 1st Calvary Division artillery infantry and was a Vietnam Veteran (1966-1969) while stationed in An Khe\, Pleiku and Da Nang.\n\n\nPRIMARY STAGING DETAILS: 06-21-19 \nStaging Time: 08:45 AM\n \nQueen of Peace Catholic Church\n1224 Cedar St.\nLa Marque\, Texas 77568\nMap\n\n\nRide Captain: \nJamie Broadhurst\n(770) 845-5057\npgrsassy@gmail.com\n\n\nSpecial Instructions: \nStaging Time: 8:45 am – 9:15 am\nBriefing Time: 9:15 am\nIn position time: 9:30 am\nFlag line at Church 9:30 am to 10:00 am.\nWould like flag bikes\, with LEO escort\, to travel with funeral to Mt. Olivet at approximately 11:00am.\n\n\nFlags & Water:\nFlags will be provided\nIf you have large bike flags\, please bring them.\nWater will be provided.\n\nSTAGING #2 DETAILS: 06-21-19 \nStaging Time: 11:00 AM\n \nMt. Olivet Cemetery\n7801 Gulf Fwy.\nDickinson\, Texas 77539\nMap\n\n\nRide Captain: \nJamie Broadhurst\n(770) 845-5057\npgrsassy@gmail.com\n\n\nSpecial Instructions: \nIn Position Time: Approximately 11:30 am\, depending on arrival of procession.\n\n\nFlags & Water:\nFlags will be provided\nIf you have large bike flags\, please bring them.\nWater will be provided.\n\n\n\nSubmitted By: Steve Cox \nPosition: Texas Ride Captain \n\nNote: You do not have to own/ride a motorcycle or be a veteran to join\, and membership is Free. The only requirement is RESPECT! To subscribe to receive mission notices\, log into the National Site and click on the Members tab at the top. Select the Subscribe to PGR Missions option.\n Print This Page
URL:https://www.patriotguard.org/mission/robert-rodolpho-rodriguez/
CATEGORIES:Honor Mission
END:VEVENT
END:VCALENDAR