BEGIN:VCALENDAR
VERSION:2.0
PRODID:-//Patriot Guard Riders - ECPv5.3.2.1//NONSGML v1.0//EN
CALSCALE:GREGORIAN
METHOD:PUBLISH
X-WR-CALNAME:Patriot Guard Riders
X-ORIGINAL-URL:https://www.patriotguard.org
X-WR-CALDESC:Events for Patriot Guard Riders
BEGIN:VTIMEZONE
TZID:America/New_York
BEGIN:DAYLIGHT
TZOFFSETFROM:-0500
TZOFFSETTO:-0400
TZNAME:EDT
DTSTART:20190310T070000
END:DAYLIGHT
BEGIN:STANDARD
TZOFFSETFROM:-0400
TZOFFSETTO:-0500
TZNAME:EST
DTSTART:20191103T060000
END:STANDARD
END:VTIMEZONE
BEGIN:VEVENT
DTSTART;VALUE=DATE:20190707
DTEND;VALUE=DATE:20190708
DTSTAMP:20210403T200134
CREATED:20190705T181708Z
LAST-MODIFIED:20190705T181709Z
UID:166704-1562457600-1562543999@www.patriotguard.org
SUMMARY:Robert Prater
DESCRIPTION:Honor Mission\nRobert Prater\, Veteran\nUSMC – Vietnam\nHope\, Arkansas – 07-07-19\n\n\n\nABOUT THE MISSION: \nThe family requests the Patriot Guard Riders to help give honor and respect to their Hero\, Robert Prater\, who honorably served in the Marine Corp from May\, 1967 until March\, 1970. During his tour of Vietnam\, our hero received 3 Purple Hearts from his dedication to this country. Mr. Prater also served Arkansas Governor Mike Huckabee as an appointee to the Independent Living Council. He was Post Commander for the American Legion Post #58. He was President of VVA Chapter 836\, and was President of the Giles Cemetery Association. He was also a leader in his local church. Survivors Include his wife of 48 years\, one daughter\, 5 sons\, 5 sisters\, grandchildren and great-grandchildren. Interment will be at Giles Cemetery following services.\n\n\nPRIMARY STAGING DETAILS: 07-07-19 \nStaging Time: 1:00 PM\n \nProvidence Baptist Church\n3576 US-278\nHope\, Arkansas 71801\nMap\n\n\nRide Captain: \nTim Estes\n870-722-8080\nestes.tim.55@gmail.com\n\n\nSpecial Instructions: \nSTAGING #1:1:00 PM\nBRIEFING: 1:15 PM (Required to ride in Escort).\nFLAG LINE: 1:30 PM – 2:00 PM\nRESPECT LINE and ESCORT: At conclusion of service to Giles Cemetery\, 4711 Hempstead 3\, Hope\, AR 71801.\nMap\nFLAG LINE: For interment service.\nBig Bike Flags Encouraged.\nCages Welcome.\nAt time of posting\, Weather forecast to be Sunny and 95 degrees.\nPlease come well hydrated. Water will be provided.\nSnacks are encouraged between Church Flag line and end of service.\n\n\nFlags & Water:\nFlags will be provided\nIf you have large bike flags\, please bring them.\nWater will be provided.\n\n\n\nSubmitted By: Tim Estes \nPosition: Arkansas Ride Captain \n\nNote: You do not have to own/ride a motorcycle or be a veteran to join\, and membership is Free. The only requirement is RESPECT! To subscribe to receive mission notices\, log into the National Site and click on the Members tab at the top. Select the Subscribe to PGR Missions option.\n Print This Page
URL:https://www.patriotguard.org/mission/robert-prater/
CATEGORIES:Honor Mission
END:VEVENT
END:VCALENDAR