BEGIN:VCALENDAR
VERSION:2.0
PRODID:-//Patriot Guard Riders - ECPv5.6.0//NONSGML v1.0//EN
CALSCALE:GREGORIAN
METHOD:PUBLISH
X-WR-CALNAME:Patriot Guard Riders
X-ORIGINAL-URL:https://www.patriotguard.org
X-WR-CALDESC:Events for Patriot Guard Riders
BEGIN:VTIMEZONE
TZID:America/New_York
BEGIN:DAYLIGHT
TZOFFSETFROM:-0500
TZOFFSETTO:-0400
TZNAME:EDT
DTSTART:20160313T070000
END:DAYLIGHT
BEGIN:STANDARD
TZOFFSETFROM:-0400
TZOFFSETTO:-0500
TZNAME:EST
DTSTART:20161106T060000
END:STANDARD
END:VTIMEZONE
BEGIN:VEVENT
DTSTART;TZID=America/New_York:20160727T090000
DTEND;TZID=America/New_York:20160727T110000
DTSTAMP:20210512T223344
CREATED:20160727T130000Z
LAST-MODIFIED:20191201T144225Z
UID:410496-1469610000-1469617200@www.patriotguard.org
SUMMARY:Robert Perez\, USMC Veteran / Ft. Logan
DESCRIPTION:The Patriot Guard Riders have been invited to stand in honor of Robert Perez\, USMC Veteran on Wednesday\, 27 July at 1:30PM at Ft Logan National Cemetery 3698 S. Sheridan Blvd. 80235 Pavilion B. \nMr. Perez served in the USMC as a Communications Expert from 1969-1971. After his Honorable Discharge he worked as a Mobile Mechanic for Western Automotive. He is survived by his wife\, 3 children\, and 4 grandchildren. \n12:45PM Stage in front of Ft. Logan Visitor’s Center \n1:00PM Mission Briefing \n1:15PM Depart for Pavilion B to set Flag Line \nAny available Ride Captain please post below. \nFlags will be needed for this mission. \nContact:\nKathy ‘Rat’ Goldstein\, SC\n720-244-0594\nstatecaptain@coloradopgr.org
URL:https://www.patriotguard.org/mission/robert-perez-usmc-veteran-ft-logan/
CATEGORIES:Archive
END:VEVENT
END:VCALENDAR