BEGIN:VCALENDAR
VERSION:2.0
PRODID:-//Patriot Guard Riders - ECPv5.6.0//NONSGML v1.0//EN
CALSCALE:GREGORIAN
METHOD:PUBLISH
X-WR-CALNAME:Patriot Guard Riders
X-ORIGINAL-URL:https://www.patriotguard.org
X-WR-CALDESC:Events for Patriot Guard Riders
BEGIN:VTIMEZONE
TZID:America/New_York
BEGIN:DAYLIGHT
TZOFFSETFROM:-0500
TZOFFSETTO:-0400
TZNAME:EDT
DTSTART:20160313T070000
END:DAYLIGHT
BEGIN:STANDARD
TZOFFSETFROM:-0400
TZOFFSETTO:-0500
TZNAME:EST
DTSTART:20161106T060000
END:STANDARD
END:VTIMEZONE
BEGIN:VEVENT
DTSTART;TZID=America/New_York:20160603T090000
DTEND;TZID=America/New_York:20160603T110000
DTSTAMP:20210513T083331
CREATED:20160603T130000Z
LAST-MODIFIED:20191201T145457Z
UID:411635-1464944400-1464951600@www.patriotguard.org
SUMMARY:Robert Morgan\, Sr.\, USA Veteran / Granite City\, IL
DESCRIPTION:The family of Robert Morgan\, Sr. has requested that the Patriot Guard provide an escort for their loved one in honor of his service to this Great Nation.  Robert served with the US Army during the end of the Vietnam Era.  We will be at the funeral home prior to family arrival and then escort them to the hallowed grounds of the Jefferson Barracks National Cemetery where Robert will be laid to rest. \nESCORT \nDate:  Fri\, 3 Jun 16\nTime:  0830 hrs (8:30 am) \nPlace:  Saksa Funeral Home\n2005 Pontoon Rd\nGranite City\, IL \nStaging:  0745 hrs (7:45 am)\nLine up for escort as per RC instructions. \nThe family is scheduled to arrive by 8:30 am.\nWe will depart the funeral home at 9 am.  Scheduled appointment at Jefferson Barracks is for 10 am. \nRemember to HYDRATE well as the temps are getting warmer.  Water will be on the support truck. \nRC  Ed Futch (618-973-7359)\nRC  Arne “Fat Fred” Dahlgren (w/flag support)
URL:https://www.patriotguard.org/mission/robert-morgan-sr-usa-veteran-granite-city-il/
CATEGORIES:Archive
END:VEVENT
END:VCALENDAR