BEGIN:VCALENDAR
VERSION:2.0
PRODID:-//Patriot Guard Riders - ECPv5.6.0//NONSGML v1.0//EN
CALSCALE:GREGORIAN
METHOD:PUBLISH
X-WR-CALNAME:Patriot Guard Riders
X-ORIGINAL-URL:https://www.patriotguard.org
X-WR-CALDESC:Events for Patriot Guard Riders
BEGIN:VTIMEZONE
TZID:America/New_York
BEGIN:DAYLIGHT
TZOFFSETFROM:-0500
TZOFFSETTO:-0400
TZNAME:EDT
DTSTART:20160313T070000
END:DAYLIGHT
BEGIN:STANDARD
TZOFFSETFROM:-0400
TZOFFSETTO:-0500
TZNAME:EST
DTSTART:20161106T060000
END:STANDARD
END:VTIMEZONE
BEGIN:VEVENT
DTSTART;TZID=America/New_York:20160728T090000
DTEND;TZID=America/New_York:20160728T110000
DTSTAMP:20210512T125605
CREATED:20160728T130000Z
LAST-MODIFIED:20191201T144042Z
UID:410336-1469696400-1469703600@www.patriotguard.org
SUMMARY:Robert Masters\, USA Veteran / Hazelwood
DESCRIPTION:The family of Robert  (Mick) Masters has respectfully requested the Patriot Guard Riders to  attend their loved ones services\, Stand a silent and respectful flag  line\, and Escort them to the Hallowed Grounds of Jefferson Barracks  National Cemetery.\n\nPV1 Masters served in the U.S. Army as a Military Policeman\, he  earned the  Expert Rifleman Medal. PV1 Masters served from 05/16/79 to  08/28/80. \nServices:\nThe Joshua House\, Thursday 28 July 2016 1230 Hrs.\n7214 Willow Lane\nHazelwood Mo. 63042\n\nStage:\n1215 Hrs.\nMeeting to follow \nEscort:\nJefferson Barracks National Cemetery\n2900 Sheridan Rd.\nSt. Louis Mo. 63125 \nRCIC:\nJerry”Zipper”Craft\nFixit82@aol.com\n314-574-8706\n\nFlags/Support:\nDanny”Wolfman”Reinbold \nHydrate\, Hydrate\, Hydrate.  The day before\, and the day of. \nHigh 88 – Low 74 20% chance for rain
URL:https://www.patriotguard.org/mission/robert-masters-usa-veteran-hazelwood/
CATEGORIES:Archive
END:VEVENT
END:VCALENDAR