BEGIN:VCALENDAR
VERSION:2.0
PRODID:-//Patriot Guard Riders - ECPv5.3.2.1//NONSGML v1.0//EN
CALSCALE:GREGORIAN
METHOD:PUBLISH
X-WR-CALNAME:Patriot Guard Riders
X-ORIGINAL-URL:https://www.patriotguard.org
X-WR-CALDESC:Events for Patriot Guard Riders
BEGIN:VTIMEZONE
TZID:America/New_York
BEGIN:DAYLIGHT
TZOFFSETFROM:-0500
TZOFFSETTO:-0400
TZNAME:EDT
DTSTART:20190310T070000
END:DAYLIGHT
BEGIN:STANDARD
TZOFFSETFROM:-0400
TZOFFSETTO:-0500
TZNAME:EST
DTSTART:20191103T060000
END:STANDARD
END:VTIMEZONE
BEGIN:VEVENT
DTSTART;VALUE=DATE:20190613
DTEND;VALUE=DATE:20190614
DTSTAMP:20210405T031240
CREATED:20190611T150012Z
LAST-MODIFIED:20190611T150012Z
UID:164436-1560384000-1560470399@www.patriotguard.org
SUMMARY:Robert M. Wright
DESCRIPTION:Honor Mission\nRobert M. Wright\, Veteran\nUSN – WWII\nFayetteville\, Tennessee – 06-13-19\n\n\n\nABOUT THE MISSION: \nRobert Wright was an honored member of “The Greatest Generation” that served during World War II. He enlisted in the Navy in 1945\, separating with the rating of Aviation Radioman third class in 1946.\n\n\nPRIMARY STAGING DETAILS: 06-13-19 \nStaging Time: 11:00 AM\n \nHiggins Funeral Home\n213 Market St. East\nFayetteville\, Tennessee 37334\n\n\nRide Captain: \nDavid Westhorp\n(615) 330-5340\n\n\nSpecial Instructions: \nPGR will stand a flag line during visitation from 11:30 AM until the funeral service at 1PM.\nFollowing the service there will be a 12 mile escort to Boonshill Cemetery.\n\n\nFlags & Water:\nFlags will be provided\nIf you have large bike flags\, please bring them.\nWater WILL NOT be provided\, please bring your own.\n\n\n\nSubmitted By: David Westhorp \nPosition: Tennessee State Captain \n\nNote: You do not have to own/ride a motorcycle or be a veteran to join\, and membership is Free. The only requirement is RESPECT! To subscribe to receive mission notices\, log into the National Site and click on the Members tab at the top. Select the Subscribe to PGR Missions option.\n Print This Page
URL:https://www.patriotguard.org/mission/robert-m-wright/
CATEGORIES:Honor Mission
END:VEVENT
END:VCALENDAR