BEGIN:VCALENDAR
VERSION:2.0
PRODID:-//Patriot Guard Riders - ECPv5.3.2.1//NONSGML v1.0//EN
CALSCALE:GREGORIAN
METHOD:PUBLISH
X-WR-CALNAME:Patriot Guard Riders
X-ORIGINAL-URL:https://www.patriotguard.org
X-WR-CALDESC:Events for Patriot Guard Riders
BEGIN:VTIMEZONE
TZID:America/New_York
BEGIN:DAYLIGHT
TZOFFSETFROM:-0500
TZOFFSETTO:-0400
TZNAME:EDT
DTSTART:20190310T070000
END:DAYLIGHT
BEGIN:STANDARD
TZOFFSETFROM:-0400
TZOFFSETTO:-0500
TZNAME:EST
DTSTART:20191103T060000
END:STANDARD
END:VTIMEZONE
BEGIN:VEVENT
DTSTART;VALUE=DATE:20190921
DTEND;VALUE=DATE:20190922
DTSTAMP:20210401T095413
CREATED:20190920T012754Z
LAST-MODIFIED:20190920T012754Z
UID:175531-1569024000-1569110399@www.patriotguard.org
SUMMARY:Robert M. Taylor
DESCRIPTION:Honor Mission\nRobert M. Taylor\, Retired\, Veteran\nUSAF –\nAvondale\, Arizona – 09-21-19\n\n\n\n\nABOUT THE MISSION: \nRobert M. Taylor served honorably for 20 years with the United States Air Force serving as a Construction Equipment Technician and Communications Systems Radio Operator Supervisor attaining the rank of SSGT E5. While serving Robert earned the following awards and commendations: Air Force Outstanding Unit Award with two Oak Leaf Clusters; Air Force Good Conduct Medal with four Oak Leaf Clusters; National Defense Service Medal; Armed Forces Expeditionary Medal; Air Force Overseas Short Term Tour Ribbon; Air Force Long Term Overseas Tour Ribbon with two Oak Leaf Clusters; NCO Graduate Ribbon with one Oak Leaf Cluster; Small Arms Marksmanship Ribbon; Air Force Training Ribbon.\n\n\nPRIMARY STAGING DETAILS: 09-21-19 \nStaging Time: 09:15  \nHoly Cross Funeral Home\n9925 W. Thomas. Rd.\nAvondale\, Arizona 85392\n\n\nRide Captain: \nDan Lazear\nazpgrdan@gmail.com\n480-223-8628\n\nFlag Captain: Gary O.\n\n\nSpecial Instructions: \nPlease arrive quietly. Service in progress.\n9:40 A.M.: Circle of Honor\n9:50 A.M.: Lead-in to the grave site in the Veterans Section\n\n\nFlags & Water:\nFlags will be provided\nIf you have large bike flags\, please bring them.\nWater will be provided.\n\nSubmitted By: David Murphy \nPosition: Arizona Assistant State Captain \n\nNote: You do not have to own/ride a motorcycle or be a veteran to join\, and membership is Free. The only requirement is RESPECT! To subscribe to receive mission notices\, log into the National Site and click on the Members tab at the top. Select the Subscribe to PGR Missions option.\n Print This Page
URL:https://www.patriotguard.org/mission/robert-m-taylor/
CATEGORIES:Honor Mission
END:VEVENT
END:VCALENDAR