BEGIN:VCALENDAR
VERSION:2.0
PRODID:-//Patriot Guard Riders - ECPv5.6.0//NONSGML v1.0//EN
CALSCALE:GREGORIAN
METHOD:PUBLISH
X-WR-CALNAME:Patriot Guard Riders
X-ORIGINAL-URL:https://www.patriotguard.org
X-WR-CALDESC:Events for Patriot Guard Riders
BEGIN:VTIMEZONE
TZID:America/New_York
BEGIN:DAYLIGHT
TZOFFSETFROM:-0500
TZOFFSETTO:-0400
TZNAME:EDT
DTSTART:20160313T070000
END:DAYLIGHT
BEGIN:STANDARD
TZOFFSETFROM:-0400
TZOFFSETTO:-0500
TZNAME:EST
DTSTART:20161106T060000
END:STANDARD
END:VTIMEZONE
BEGIN:VEVENT
DTSTART;TZID=America/New_York:20160621T090000
DTEND;TZID=America/New_York:20160621T110000
DTSTAMP:20210513T152524
CREATED:20160621T130000Z
LAST-MODIFIED:20191201T145100Z
UID:411279-1466499600-1466506800@www.patriotguard.org
SUMMARY:Robert Luther Gray\, USMC
DESCRIPTION:Robert Luther Gray\nUSMC Korean War Veteran\nLancaster\, CA\nTuesday 21 June 2016\n\n\n\nWe have been invited to participate in the service for Robert Luther Gray to accompany him to Bakersfield National Cemetery with a flag line at his final resting place. We’re honor to do so. \nRobert Luther Gray join the USMC in July 1950 to July 1954. Attaining the rank of SGT. Robert served in the Korean war. He was awarded the Korean War Medal\, UN Service Medal\, Good Conduct\, National Defense Service Medal. \nRobert Luther Gray had an Income tax/bookkeeping business. Owned Bob Grays Auto Wrecking\, Member of the Fraternal Order of real bearded Santa’s\, Elks Lodge Member\, Member of the Marine Corp League. Survived by a wife of 25 years\, two sons\, 3 Grandchildren and 6 Great Grandchildren. \nNOTE: This mission posting is to facilitate your voluntary participation in honoring this Military Veteran. For those interested\, and all are welcome\, we will be accompanying the hero and his family from the church services to his final resting place. Please see the time table if you would like to participate. For those who would rather go directly to the cemetery\, we will meet you there. \nTime table for Tuesday 21 June 2016 \n0830 – Stage at Edge Foursquare Church\, 43807 15th St. West Lancaster\, Ca 93534 \n0845 – Mission Briefing. \n0900 – Flag Line for Arriving Family and Friends \n0930 – Church Service Begins \n1030 – Reform Flag Line as Church Services End / K.S.U.  Accompany to Bakersfield National Cemetery; 30338 E Bear Mountain Blvd Arvin\, Ca 93203 \nETA: 1145 – Bakersfield National Cemetery with Flag Line for Graveside service \nMap link for this mission – http://mapq.st/25VaZz4 \nRC:\nLarry Miller\n661 816 1263\nLarrymillerpgr@gmail.com \nYou do not have to be a Veteran or a motorcycle rider to attend this mission. Everyone is welcome. We encourage those who do not ride to attend in your car. If this will be your first mission go to the initial staging area and you will be briefed there by the R/C (Ride Captain).  Dress for motorcycle riding or dress casually if you are driving a cage (car).
URL:https://www.patriotguard.org/mission/robert-luther-gray-usmc/
CATEGORIES:Archive
END:VEVENT
END:VCALENDAR