BEGIN:VCALENDAR
VERSION:2.0
PRODID:-//Patriot Guard Riders - ECPv5.3.2.1//NONSGML v1.0//EN
CALSCALE:GREGORIAN
METHOD:PUBLISH
X-WR-CALNAME:Patriot Guard Riders
X-ORIGINAL-URL:https://www.patriotguard.org
X-WR-CALDESC:Events for Patriot Guard Riders
BEGIN:VTIMEZONE
TZID:America/New_York
BEGIN:DAYLIGHT
TZOFFSETFROM:-0500
TZOFFSETTO:-0400
TZNAME:EDT
DTSTART:20190310T070000
END:DAYLIGHT
BEGIN:STANDARD
TZOFFSETFROM:-0400
TZOFFSETTO:-0500
TZNAME:EST
DTSTART:20191103T060000
END:STANDARD
END:VTIMEZONE
BEGIN:VEVENT
DTSTART;VALUE=DATE:20190922
DTEND;VALUE=DATE:20190923
DTSTAMP:20210401T082743
CREATED:20190919T120916Z
LAST-MODIFIED:20190919T120916Z
UID:174642-1569110400-1569196799@www.patriotguard.org
SUMMARY:Robert Leen
DESCRIPTION:Honor Mission\nRobert Leen\, Veteran\nUSA – GW/ODS\nLouisville\, Kentucky – 09-22-19\n\n\n\nABOUT THE MISSION: \nWe have been asked to stand a flag line for Mr Robert Leen\, a US Army Veteran of the Gulf War.\n\n\nPRIMARY STAGING DETAILS: 09-22-19 \nStaging Time: 2:45 PM\n \nNew Comer\n235 Juneau Dr\nLouisville\, Kentucky 40243\n\n\nRide Captain: \nTom Baker\n502-271-8955\n\n\nSpecial Instructions: \nWe will stand a flag line from 3 till 6 staging at 2:45.\n\n\nFlags & Water:\nFlags will be provided\nLarge Bike Flags will NOT be needed.\nWater WILL NOT be provided\, please bring your own.\n\n\n\nSubmitted By: Thomas Baker \nPosition: Kentucky Ride Captain \n\nNote: You do not have to own/ride a motorcycle or be a veteran to join\, and membership is Free. The only requirement is RESPECT! To subscribe to receive mission notices\, log into the National Site and click on the Members tab at the top. Select the Subscribe to PGR Missions option.\n Print This Page
URL:https://www.patriotguard.org/mission/robert-leen/
CATEGORIES:Honor Mission
END:VEVENT
END:VCALENDAR