BEGIN:VCALENDAR
VERSION:2.0
PRODID:-//Patriot Guard Riders - ECPv5.3.2.1//NONSGML v1.0//EN
CALSCALE:GREGORIAN
METHOD:PUBLISH
X-WR-CALNAME:Patriot Guard Riders
X-ORIGINAL-URL:https://www.patriotguard.org
X-WR-CALDESC:Events for Patriot Guard Riders
BEGIN:VTIMEZONE
TZID:America/New_York
BEGIN:DAYLIGHT
TZOFFSETFROM:-0500
TZOFFSETTO:-0400
TZNAME:EDT
DTSTART:20190310T070000
END:DAYLIGHT
BEGIN:STANDARD
TZOFFSETFROM:-0400
TZOFFSETTO:-0500
TZNAME:EST
DTSTART:20191103T060000
END:STANDARD
END:VTIMEZONE
BEGIN:VEVENT
DTSTART;VALUE=DATE:20190912
DTEND;VALUE=DATE:20190913
DTSTAMP:20210401T030128
CREATED:20190910T143418Z
LAST-MODIFIED:20190910T143418Z
UID:173363-1568246400-1568332799@www.patriotguard.org
SUMMARY:Robert Lee Ward
DESCRIPTION:Honor Mission\nRobert Lee Ward\, Veteran\nUSN\nLittle Rock\, Arkansas – 09-11-19\n\n\n\nABOUT THE MISSION: \nRobert Lee Ward served his country for 3 years 11 months and 27 days. Most of this time was on board ship. He served on the USS Antietam a guided missile cruiser. He loved to hunt\, fish\, play golf\, and watch professional bull riding. He loved his family and friends.\n\n\nPRIMARY STAGING DETAILS: 09-11-19 \nStaging Time: 9:45 am  \nRoller-Drummond Funeral home\n10900 I 30\nLittle Rock\, Arkansas\n\n\nRide Captain: \nRandy “Mudd” Crownover\nrandycrownover@hotmail.com\n501-993-2517\n\n\nSpecial Instructions: \nBriefing will be at 10:00 am\nYou must attend the briefing to ride escort. Big flags are encourage but must be able to withstand highway speeds. Visitation will be prior to the service.\n\n\nFlags & Water:\nFlags will be provided\nIf you have large bike flags\, please bring them.\nWater WILL NOT be provided\, please bring your own.\n\nSTAGING #2 DETAILS: 09-11-19 \nStaging Time: 12:45 pm  \nASVC cemetery on Maryland Ave Remember that the main gate is closed due to construction. You will be directed to the new temporary gate\nSherwood\, Arkansas\n\n\nRide Captain: \nRandy “Mudd” Crownover\nrandycrownover@htmail.com\n501 993 2517\n\n\n\n\nFlags & Water:\nFlags will be provided\nIf you have large bike flags\, please bring them.\nWater WILL NOT be provided\, please bring your own.\n\nSubmitted By: Randall Crownover \nPosition: Arkansas Ride Captain \n\nNote: You do not have to own/ride a motorcycle or be a veteran to join\, and membership is Free. The only requirement is RESPECT! To subscribe to receive mission notices\, log into the National Site and click on the Members tab at the top. Select the Subscribe to PGR Missions option.\n Print This Page
URL:https://www.patriotguard.org/mission/robert-lee-ward/
CATEGORIES:Honor Mission
END:VEVENT
END:VCALENDAR