BEGIN:VCALENDAR
VERSION:2.0
PRODID:-//Patriot Guard Riders - ECPv5.3.2.1//NONSGML v1.0//EN
CALSCALE:GREGORIAN
METHOD:PUBLISH
X-WR-CALNAME:Patriot Guard Riders
X-ORIGINAL-URL:https://www.patriotguard.org
X-WR-CALDESC:Events for Patriot Guard Riders
BEGIN:VTIMEZONE
TZID:America/New_York
BEGIN:DAYLIGHT
TZOFFSETFROM:-0500
TZOFFSETTO:-0400
TZNAME:EDT
DTSTART:20190310T070000
END:DAYLIGHT
BEGIN:STANDARD
TZOFFSETFROM:-0400
TZOFFSETTO:-0500
TZNAME:EST
DTSTART:20191103T060000
END:STANDARD
END:VTIMEZONE
BEGIN:VEVENT
DTSTART;VALUE=DATE:20190828
DTEND;VALUE=DATE:20190829
DTSTAMP:20210402T194301
CREATED:20190826T191918Z
LAST-MODIFIED:20190826T191918Z
UID:171925-1566950400-1567036799@www.patriotguard.org
SUMMARY:Robert Lee Stanovsky
DESCRIPTION:Honor Mission\nRobert Lee Stanovsky\, Veteran\nUSMC – Korea\nDallas\, Texas – 08-28-19\n\n\n\nABOUT THE MISSION: \nMr. Stanovsky served for 2 Years 10 Months in the Untied States Marine Corps. He was a Korean War Combat Veteran and was one of the frozen chosen – a War Hero.\n\n\nPRIMARY STAGING DETAILS: 08-28-19 \nStaging Time: 09:00 AM\n \nHughes Family Tribute Center\n9700 Webb Chapel Road\nDallas\, Texas 75220\n\n\nRide Captain: \nTom Hardin\ntom.hardin27@hotmail.com\n(469) 387-1512\n\nAsst: Bill Kushnir\, bpkush@gte.net\, (720) 422-9221\n\n\nSpecial Instructions: \nProcession Staging Time: 09:00\nBriefing Time: 09:15\nIn Position/KSU Time: 09:30\nStarting Time: 10:00\nRiders will stage at the Hughes Family Tribute Center for both the mission and safety briefings. Honor bikes will be selected and all riders staged for the procession to DFW National Cemetery. Upon arrival at the DFW Information Center\, honor bikes will turn into the designated lane\, while the remaining riders proceed to the designated shelter to help set flags and await the arrival of the procession.\n\n\nFlags & Water:\nFlags will not be provided\nIf you have large bike flags\, please bring them.\nWater WILL NOT be provided\, please bring your own.\n\nSTAGING #2 DETAILS: 08-28-19 \nStaging Time: 10:45 AM\n \nDFW National Cemetery\n2000 Mountain Creek Pkwy\nDallas\, Tennessee 75221\n\n\nRide Captain: \nTom Hardin\ntom.hardin27@hotmail.com\n(469) 387-1512\n\nAsst: Bill Kushnir\, bpkush@gte.net\, (720) 422-9221\n\n\nSpecial Instructions: \nStaging Time: 10:30\nBriefing Time: 10:45\nIn Position/KSU Time:11:00\nStarting Time: 11:15\nAfter the Mission Briefing\, four honor bikes will be identified if needed\, and moved to the Staging Lane to accompany the procession. The remainder of the Riders will proceed to the designated Committal Shelter\, establish the Flag Line and prepare to receive the family and friends of Mr. Stanovsky. When directed\, the Riders will return the flags to storage\, be debriefed and dismissed. No water; Please Bring Your Own Water\n\n\nFlags & Water:\nFlags will be provided\nIf you have large bike flags\, please bring them.\nWater WILL NOT be provided\, please bring your own.\n\n\n\nSubmitted By: Dan Mathys \nPosition: Texas Ride Captain \n\nNote: You do not have to own/ride a motorcycle or be a veteran to join\, and membership is Free. The only requirement is RESPECT! To subscribe to receive mission notices\, log into the National Site and click on the Members tab at the top. Select the Subscribe to PGR Missions option.\n Print This Page
URL:https://www.patriotguard.org/mission/robert-lee-stanovsky/
CATEGORIES:Honor Mission
END:VEVENT
END:VCALENDAR