BEGIN:VCALENDAR
VERSION:2.0
PRODID:-//Patriot Guard Riders - ECPv5.3.2.1//NONSGML v1.0//EN
CALSCALE:GREGORIAN
METHOD:PUBLISH
X-WR-CALNAME:Patriot Guard Riders
X-ORIGINAL-URL:https://www.patriotguard.org
X-WR-CALDESC:Events for Patriot Guard Riders
BEGIN:VTIMEZONE
TZID:America/New_York
BEGIN:DAYLIGHT
TZOFFSETFROM:-0500
TZOFFSETTO:-0400
TZNAME:EDT
DTSTART:20190310T070000
END:DAYLIGHT
BEGIN:STANDARD
TZOFFSETFROM:-0400
TZOFFSETTO:-0500
TZNAME:EST
DTSTART:20191103T060000
END:STANDARD
END:VTIMEZONE
BEGIN:VEVENT
DTSTART;VALUE=DATE:20190831
DTEND;VALUE=DATE:20190901
DTSTAMP:20210402T075326
CREATED:20190825T154507Z
LAST-MODIFIED:20190825T154507Z
UID:171870-1567209600-1567295999@www.patriotguard.org
SUMMARY:Robert Lee Richardson
DESCRIPTION:Honor Mission\nRobert Lee Richardson\, Veteran\nUSMC – Korea\nPeachtree City\, Georgia – 08-31-19\n\n\nABOUT THE MISSION:\n\n\nThe Patriot Guard Riders have been asked to stand in honor of Mr. Richardson’s Korean War service in the USMC from 1951 to 1956\, and for his dedicated career in Law Enforcement afterwards. We have informed them it will be out honor to stsand in honor of his selfless service to this country.\n\n\nPRIMARY STAGING DETAILS: 08-31-19 \nStaging Time: 1:45 pm \nMowell and Son Funeral Home\n200 Robinson Road\nPeachtree City\, Georgia 30269\n\n\nRide Captain: \nCarrie ” Hollywood ” Poole\nmarjesick3@aol.com\n404-787-7122\n\n\nSpecial Instructions: \nThis will be a flag line only mission. We will brief at 1:45 pm and stand flag line from 2 pm until service starts at 3 pm.\n\n\nFlags & Water:\n\nFlags will be provided\nLarge Bike Flags will NOT be needed.\nWater WILL NOT be provided\, please bring your own.\n\n\n\nSubmitted By: Carrie Poole \nPosition: Georgia Ride Captain \n\nNote: You do not have to own/ride a motorcycle or be a veteran to join\, and membership is Free. The only requirement is RESPECT! To subscribe to receive mission notices\, log into the National Site and click on the Members tab at the top. Select the Subscribe to PGR Missions option.\n Print This Page
URL:https://www.patriotguard.org/mission/robert-lee-richardson/
CATEGORIES:Honor Mission
END:VEVENT
END:VCALENDAR