BEGIN:VCALENDAR
VERSION:2.0
PRODID:-//Patriot Guard Riders - ECPv5.3.2.1//NONSGML v1.0//EN
CALSCALE:GREGORIAN
METHOD:PUBLISH
X-WR-CALNAME:Patriot Guard Riders
X-ORIGINAL-URL:https://www.patriotguard.org
X-WR-CALDESC:Events for Patriot Guard Riders
BEGIN:VTIMEZONE
TZID:America/New_York
BEGIN:DAYLIGHT
TZOFFSETFROM:-0500
TZOFFSETTO:-0400
TZNAME:EDT
DTSTART:20190310T070000
END:DAYLIGHT
BEGIN:STANDARD
TZOFFSETFROM:-0400
TZOFFSETTO:-0500
TZNAME:EST
DTSTART:20191103T060000
END:STANDARD
END:VTIMEZONE
BEGIN:VEVENT
DTSTART;VALUE=DATE:20190615
DTEND;VALUE=DATE:20190616
DTSTAMP:20210404T231350
CREATED:20190613T055205Z
LAST-MODIFIED:20190613T055205Z
UID:164661-1560556800-1560643199@www.patriotguard.org
SUMMARY:Robert Lee Guerrant
DESCRIPTION:Honor Mission\nRobert Lee Guerrant\, Veteran\nUSA –\nThe Dalles\, Oregon – 06-15-19\n\n\n\nABOUT THE MISSION: \nLadies and Gentlemen of the Patriot Guard Riders\, your presence has been requested to stand the Flag Line for First Lieutenant Robert Lee Guerrant\, 69. Lt Guerrant served in the United States Army from 5/May/1972 to 5/May/1976 followed by the Army Reserve. He was a Non-Tactical Unit Officer. Thank you for your service. Your watch is complete. It is our turn to stand for you.\n\n\nPRIMARY STAGING DETAILS: 06-15-19 \nStaging Time: 10:15 AM\n \nMcDonalds\n341 Lone Pine Dr\nThe Dalles\, Oregon 97058\nMap\n\n\nRide Captain: \nRod Runyon\n541-993-6413\nreckless.1@hotmail.com\n\n\nSpecial Instructions: \nKSU 10:30am\nFull Staging will be at Camp Morrow out of Wamic\, listed as 79551 N Morrow Rd \,Tygh Valley\, 97063\nMap\nBriefing in Wamic 11:50am\nFlag Line: 12:00pm\nService: 1:00pm\nDismissal: 1:30pm approximate\n\n\nFlags & Water:\nFlags will not be provided\nIf you have large bike flags\, please bring them.\nWater WILL NOT be provided\, please bring your own.\n\n\n\nSubmitted By: John Hanan II \nPosition: Oregon State Captain \n\nNote: You do not have to own/ride a motorcycle or be a veteran to join\, and membership is Free. The only requirement is RESPECT! To subscribe to receive mission notices\, log into the National Site and click on the Members tab at the top. Select the Subscribe to PGR Missions option.\n Print This Page
URL:https://www.patriotguard.org/mission/robert-lee-guerrant/
CATEGORIES:Honor Mission
END:VEVENT
END:VCALENDAR