BEGIN:VCALENDAR
VERSION:2.0
PRODID:-//Patriot Guard Riders - ECPv5.6.0//NONSGML v1.0//EN
CALSCALE:GREGORIAN
METHOD:PUBLISH
X-WR-CALNAME:Patriot Guard Riders
X-ORIGINAL-URL:https://www.patriotguard.org
X-WR-CALDESC:Events for Patriot Guard Riders
BEGIN:VTIMEZONE
TZID:America/New_York
BEGIN:DAYLIGHT
TZOFFSETFROM:-0500
TZOFFSETTO:-0400
TZNAME:EDT
DTSTART:20160313T070000
END:DAYLIGHT
BEGIN:STANDARD
TZOFFSETFROM:-0400
TZOFFSETTO:-0500
TZNAME:EST
DTSTART:20161106T060000
END:STANDARD
END:VTIMEZONE
BEGIN:VEVENT
DTSTART;TZID=America/New_York:20160625T090000
DTEND;TZID=America/New_York:20160625T110000
DTSTAMP:20210513T185940
CREATED:20160625T130000Z
LAST-MODIFIED:20191201T144918Z
UID:411127-1466845200-1466852400@www.patriotguard.org
SUMMARY:Robert Lee Fenholt\, 91\, USN
DESCRIPTION:HONOR MISSION\nENS Robert Lee Fenholt\, 91 \nColumbus\, Ohio\nUnited States Navy WWII Veteran\, USS Libra (AKA-12) Attack cargo ship\n[ATTACH=CONFIG]4840[/ATTACH]\n\n \n\nEscort Staging Location:\nDelaware County Veterans Service Commission\nWolf Building \n149 North Sandusky Street\nDelaware\, Ohio 43015\nStaging: 25 June 2016@1115hrs-(11:15 AM) Kickstands-up 1150hrs-(11:50 AM) \nMap from Staging Location to Cemetery:   https://bit.ly/1QdUK9d \nGraveside Service Location: \nOak Grove Cemetery (Lorraine Section)  \n334 S Sandusky Street\nDelaware\, Ohio 43015\n25 June 2016@1200hrs-(12 PM) Upon arrival\, a cemetery vehicle will escort us to the site \nWe will be meeting Ensign Fenholt and his family at the Staging location and Escort them to the cemetery where we will stand a flag line until committal is complete. \nDistrict # 5 Captain Graham Webb III is assigned this mission of Honor and Respect. Please follow his instructions. Dress per the weather conditions. Use your own judgment on how you get safely to and from the mission. If you need to contact Graham email him at: PGR.GW3@gmail.com\n \n\n“Rest in Peace ENS Fenholt”\n\n[ATTACH=CONFIG]4841[/ATTACH]
URL:https://www.patriotguard.org/mission/robert-lee-fenholt-91-usn/
CATEGORIES:Archive
END:VEVENT
END:VCALENDAR