BEGIN:VCALENDAR
VERSION:2.0
PRODID:-//Patriot Guard Riders - ECPv5.6.0//NONSGML v1.0//EN
CALSCALE:GREGORIAN
METHOD:PUBLISH
X-WR-CALNAME:Patriot Guard Riders
X-ORIGINAL-URL:https://www.patriotguard.org
X-WR-CALDESC:Events for Patriot Guard Riders
BEGIN:VTIMEZONE
TZID:America/New_York
BEGIN:DAYLIGHT
TZOFFSETFROM:-0500
TZOFFSETTO:-0400
TZNAME:EDT
DTSTART:20160313T070000
END:DAYLIGHT
BEGIN:STANDARD
TZOFFSETFROM:-0400
TZOFFSETTO:-0500
TZNAME:EST
DTSTART:20161106T060000
END:STANDARD
END:VTIMEZONE
BEGIN:VEVENT
DTSTART;TZID=America/New_York:20160813T090000
DTEND;TZID=America/New_York:20160813T110000
DTSTAMP:20210512T045151
CREATED:20160813T130000Z
LAST-MODIFIED:20191201T025922Z
UID:302151-1471078800-1471086000@www.patriotguard.org
SUMMARY:Robert Lamar Cali\, SR. - USN
DESCRIPTION:Robert Lamar Cali\, SR. – USN\, Vietnam Veteran / Savannah\, GA 13 AUG 16 \nThe family of Robert Lamar Cali\, Sr. has requested the Patriot Guard Riders to stand in honor of the life and service of their loved one.  We have told the family it will be our honor to do so. \nMr. Cali served in the United States Navy including a tour in Vietnam before being honorable discharged from service.  Following his discharged he worked as an electrician for 37 years before retiring. \nOur mission will consist of standing a flag line before service beginning at 2pm Saturday\, August 13 at Baker McCullough Funeral Home\, Hubert C. Baker Chapel.  Immediately following service we will do an escort to Forest Lawn Memory Gardens for interment with military honors. \nPlease view obituary below:\nhttp://www.legacy.com/obituaries/savannah/obituary.aspx?page=lifestory&pid=181043921 \nStaging:\n12:30pm Saturday\, August 13\nBaker McCullough Funeral Home\, Hubert C. Baker Chapel\n7415 Hodgson Memorial Dr\, Savannah\, GA 31406 \nRCIC:\nHarold “Top” Piet\nGA Ride Captain\n912 515-9059\npiet.harold@hotmail.com
URL:https://www.patriotguard.org/mission/robert-lamar-cali-sr-usn/
END:VEVENT
END:VCALENDAR