BEGIN:VCALENDAR
VERSION:2.0
PRODID:-//Patriot Guard Riders - ECPv5.3.2.1//NONSGML v1.0//EN
CALSCALE:GREGORIAN
METHOD:PUBLISH
X-WR-CALNAME:Patriot Guard Riders
X-ORIGINAL-URL:https://www.patriotguard.org
X-WR-CALDESC:Events for Patriot Guard Riders
BEGIN:VTIMEZONE
TZID:America/New_York
BEGIN:DAYLIGHT
TZOFFSETFROM:-0500
TZOFFSETTO:-0400
TZNAME:EDT
DTSTART:20190310T070000
END:DAYLIGHT
BEGIN:STANDARD
TZOFFSETFROM:-0400
TZOFFSETTO:-0500
TZNAME:EST
DTSTART:20191103T060000
END:STANDARD
END:VTIMEZONE
BEGIN:VEVENT
DTSTART;VALUE=DATE:20190802
DTEND;VALUE=DATE:20190803
DTSTAMP:20210402T092201
CREATED:20190801T111335Z
LAST-MODIFIED:20190801T111335Z
UID:169451-1564704000-1564790399@www.patriotguard.org
SUMMARY:Robert L. Dorning
DESCRIPTION:Honor Mission\nRobert L. Dorning\, Veteran\nUSA\, ANG – WoT\nFayetteville\, Tennessee – 08-02-19\n\n\n\nABOUT THE MISSION: \nRobert Dorning served in the Army and the Army National Guard from 2009 until 2015.\n\n\nPRIMARY STAGING DETAILS: 08-02-19 \nStaging Time: 10:00 AM\n \nHiggins Funeral Home\n213 East Market St.\nFayetteville\, Tennessee 37334\n\n\nRide Captain: \nTBD (for information contact David Westhorp at (615) 330-5340\n\n\nSpecial Instructions: \nFlag line during visitation from 11 AM until 2 PM.\nFollowing the 2 PM service there will be a 13 mile escort to the cemetery.\n\n\nFlags & Water:\nFlags will be provided\nIf you have large bike flags\, please bring them.\nWater WILL NOT be provided\, please bring your own.\n\n\n\nSubmitted By: David Westhorp \nPosition: Tennessee State Captain \n\nNote: You do not have to own/ride a motorcycle or be a veteran to join\, and membership is Free. The only requirement is RESPECT! To subscribe to receive mission notices\, log into the National Site and click on the Members tab at the top. Select the Subscribe to PGR Missions option.\n Print This Page
URL:https://www.patriotguard.org/mission/robert-l-dorning/
CATEGORIES:Honor Mission
END:VEVENT
END:VCALENDAR