BEGIN:VCALENDAR
VERSION:2.0
PRODID:-//Patriot Guard Riders - ECPv5.3.2.1//NONSGML v1.0//EN
CALSCALE:GREGORIAN
METHOD:PUBLISH
X-WR-CALNAME:Patriot Guard Riders
X-ORIGINAL-URL:https://www.patriotguard.org
X-WR-CALDESC:Events for Patriot Guard Riders
BEGIN:VTIMEZONE
TZID:America/New_York
BEGIN:DAYLIGHT
TZOFFSETFROM:-0500
TZOFFSETTO:-0400
TZNAME:EDT
DTSTART:20190310T070000
END:DAYLIGHT
BEGIN:STANDARD
TZOFFSETFROM:-0400
TZOFFSETTO:-0500
TZNAME:EST
DTSTART:20191103T060000
END:STANDARD
END:VTIMEZONE
BEGIN:VEVENT
DTSTART;VALUE=DATE:20190531
DTEND;VALUE=DATE:20190601
DTSTAMP:20210405T013942
CREATED:20190530T012301Z
LAST-MODIFIED:20190530T012301Z
UID:162720-1559260800-1559347199@www.patriotguard.org
SUMMARY:Robert L. Califf
DESCRIPTION:Honor Mission\nRobert L. Califf\, Veteran\nUSA –\nMuskegon\, Michigan – 05-31-19\n\n\n\nABOUT THE MISSION: \nThe Family of Robert Califf has invited the Patriot Guard Riders to stand a Flag line in Honor of his service to our Country. Robert was a veteran of the United States Army and a lifetime member of the VFW\, DAV\, and the Fruitport Eagles.\nMap\n\n\nPRIMARY STAGING DETAILS: 05-31-19 \nStaging Time: 11:00 AM\n \nEver Rest Funeral Home\n1783 E. Keating Ave\nMuskegon\, Michigan 49442\nMap\n\n\nRide Captain: \nDani Jennings\n(231) 225-6612\n\n\nSpecial Instructions: \nBriefing: 11:15 AM\nFlag line: 11:30 AM\nService: 1:00 PM\nHonors will be held at the Sunrise Cemetery after service\, 2188 Remembrance Dr\, Muskegon\, MI. 49442.\nMap\n\n\nFlags & Water:\nFlags will be provided\nLarge Bike Flags will NOT be needed.\nWater WILL NOT be provided\, please bring your own.\n\n\n\nSubmitted By: Alan Niemeyer \nPosition: Michigan State Captain \n\nNote: You do not have to own/ride a motorcycle or be a veteran to join\, and membership is Free. The only requirement is RESPECT! To subscribe to receive mission notices\, log into the National Site and click on the Members tab at the top. Select the Subscribe to PGR Missions option.\n Print This Page
URL:https://www.patriotguard.org/mission/robert-l-califf/
CATEGORIES:Honor Mission
END:VEVENT
END:VCALENDAR