BEGIN:VCALENDAR
VERSION:2.0
PRODID:-//Patriot Guard Riders - ECPv5.3.2.1//NONSGML v1.0//EN
CALSCALE:GREGORIAN
METHOD:PUBLISH
X-WR-CALNAME:Patriot Guard Riders
X-ORIGINAL-URL:https://www.patriotguard.org
X-WR-CALDESC:Events for Patriot Guard Riders
BEGIN:VTIMEZONE
TZID:America/New_York
BEGIN:DAYLIGHT
TZOFFSETFROM:-0500
TZOFFSETTO:-0400
TZNAME:EDT
DTSTART:20190310T070000
END:DAYLIGHT
BEGIN:STANDARD
TZOFFSETFROM:-0400
TZOFFSETTO:-0500
TZNAME:EST
DTSTART:20191103T060000
END:STANDARD
END:VTIMEZONE
BEGIN:VEVENT
DTSTART;VALUE=DATE:20190927
DTEND;VALUE=DATE:20190928
DTSTAMP:20210401T072049
CREATED:20190927T140449Z
LAST-MODIFIED:20190927T140449Z
UID:176771-1569542400-1569628799@www.patriotguard.org
SUMMARY:Robert Kimery
DESCRIPTION:Honor Mission\nRobert Kimery\, Veteran\nUSA\nBroken Arrow\, Oklahoma – 09-27-19\n\n\n \n\nABOUT THE MISSION: \nThe family of Mr. Kimery Army Veteran has ask the PGR to stand a flag line at his services.  We have been asked to perform military honors and PGR Will present the PGR plaque and invocation letter.\n\n\nPRIMARY STAGING DETAILS: 09-27-19 \nStaging Time: 11:26  \nFloral Heaven Cemetery\n6500 S. 129th E. Ave\nBroken Arrow\, Oklahoma\n\n\nRide Captain: \nRon (MOE) Moseley\nsooner46@att.net\n918-269-6767\n\n\nSpecial Instructions: \nThis will be a chapel service only.\nWeather: Low 73 High 89. Dress Accordingly HYDRATE HYDRATE.\n\nFlags & Water:\nFlags will be provided\nLarge Bike Flags will NOT be needed.\nWater WILL NOT be provided\, please bring your own.\n\n\n\n\nSubmitted By: Edmond Moseley \nPosition: Oklahoma Ride Captain \n\nNote: You do not have to own/ride a motorcycle or be a veteran to join\, and membership is Free. The only requirement is RESPECT! To subscribe to receive mission notices\, log into the National Site and click on the Members tab at the top. Select the Subscribe to PGR Missions option.\n Print This Page
URL:https://www.patriotguard.org/mission/robert-kimery/
CATEGORIES:Honor Mission
END:VEVENT
END:VCALENDAR