BEGIN:VCALENDAR
VERSION:2.0
PRODID:-//Patriot Guard Riders - ECPv5.3.2.1//NONSGML v1.0//EN
CALSCALE:GREGORIAN
METHOD:PUBLISH
X-WR-CALNAME:Patriot Guard Riders
X-ORIGINAL-URL:https://www.patriotguard.org
X-WR-CALDESC:Events for Patriot Guard Riders
BEGIN:VTIMEZONE
TZID:America/New_York
BEGIN:DAYLIGHT
TZOFFSETFROM:-0500
TZOFFSETTO:-0400
TZNAME:EDT
DTSTART:20190310T070000
END:DAYLIGHT
BEGIN:STANDARD
TZOFFSETFROM:-0400
TZOFFSETTO:-0500
TZNAME:EST
DTSTART:20191103T060000
END:STANDARD
END:VTIMEZONE
BEGIN:VEVENT
DTSTART;VALUE=DATE:20190911
DTEND;VALUE=DATE:20190912
DTSTAMP:20210401T113509
CREATED:20190911T141852Z
LAST-MODIFIED:20190911T141852Z
UID:173502-1568160000-1568246399@www.patriotguard.org
SUMMARY:Robert Kennedy\, Jr.
DESCRIPTION:Honor Mission\nRobert Kennedy\, Jr. \, Veteran\nUSN – \, WWII\nMassillon\, Ohio – 09-11-19\n\n\n\n\nABOUT THE MISSION: \nS1C Robert Kennedy\, Jr. Enlisting in the Navy during WWII.  He served  from March\, 1943 until January\, 1946\, serving on the USS Jeffers in the Mediterranean and the USS Uhlman in the Pacific.  Parts of the above text comes from the Atkinson Feuch Hare Funeral Home Obituary which can be seen  here.\n\n\nPRIMARY STAGING DETAILS: 09-11-19 \nStaging Time: 5:00  pm \nVisitation: Atkinson Feucht Hare Funeral Home\n26 2nd Street NE\nMassillon\, Ohio 44646\n\n\nRide Captain: \n Ralph Olbon olbon@att.net\n\n\nSpecial Instructions: \n\n\nFlags & Water:\nFlags will not be provided\nLarge Bike Flags will NOT be needed.\nWater WILL NOT be provided\, please bring your own.\n\nSTAGING #2 DETAILS: 09-12-19 \nStaging Time: 10:00  am \nService:Atkinson Feucht Hare Funeral Home\n26 2nd Street NE\nMassillon\, Ohio 44646\n\n\nRide Captain: \nDennis Hillberry\ndennishillberry@yahoo.com\n\n\nSpecial Instructions: \n\n\nFlags & Water:\nFlags will not be provided\nIf you have large bike flags\, please bring them.\nWater WILL NOT be provided\, please bring your own.\n\n\n\nSubmitted By: Robert Woods \nPosition: Ohio State Captain \n\nNote: You do not have to own/ride a motorcycle or be a veteran to join\, and membership is Free. The only requirement is RESPECT! To subscribe to receive mission notices\, log into the National Site and click on the Members tab at the top. Select the Subscribe to PGR Missions option.\n Print This Page
URL:https://www.patriotguard.org/mission/robert-kennedy-jr/
CATEGORIES:Honor Mission
END:VEVENT
END:VCALENDAR