BEGIN:VCALENDAR
VERSION:2.0
PRODID:-//Patriot Guard Riders - ECPv5.3.2.1//NONSGML v1.0//EN
CALSCALE:GREGORIAN
METHOD:PUBLISH
X-WR-CALNAME:Patriot Guard Riders
X-ORIGINAL-URL:https://www.patriotguard.org
X-WR-CALDESC:Events for Patriot Guard Riders
BEGIN:VTIMEZONE
TZID:America/New_York
BEGIN:DAYLIGHT
TZOFFSETFROM:-0500
TZOFFSETTO:-0400
TZNAME:EDT
DTSTART:20190310T070000
END:DAYLIGHT
BEGIN:STANDARD
TZOFFSETFROM:-0400
TZOFFSETTO:-0500
TZNAME:EST
DTSTART:20191103T060000
END:STANDARD
END:VTIMEZONE
BEGIN:VEVENT
DTSTART;VALUE=DATE:20190529
DTEND;VALUE=DATE:20190530
DTSTAMP:20210405T060612
CREATED:20190525T032518Z
LAST-MODIFIED:20190525T032518Z
UID:162357-1559088000-1559174399@www.patriotguard.org
SUMMARY:Robert Joseph Bilbrough
DESCRIPTION:Honor Mission\nRobert Joseph Bilbrough\, Veteran\nUSN\nRolla\, Missouri – 05-29-19\n\n\n\n\nABOUT THE MISSION: \nThe family and friends of Robert Bilbrough have requested the Patriot Guard to stand a flag line for his service. This is a NO ESCORT mission.\n\n\nPRIMARY STAGING DETAILS: 05-29-19 \nStaging Time: 5:00 p.m. \nJames & Gahr Mortuary\n1651 E. Hwy 72\nRolla\, Missouri 65401\n\n\nRide Captain: \nBlake “Mittz” Fleig\nm3boxers@icloud.com\n314-210-3963\n\n\nSpecial Instructions: \n5:00 PM: Stage at Funeral Home\n5:15 PM:  RC Briefing\n5:30 PM:  Flag line before service\n6:00 PM:  Service with Military Honors to follow. NO ESCORT .\n\nFlags & Water:\nFlags will be provided\nLarge Bike Flags will NOT be needed.\nWater WILL NOT be provided\, please bring your own.\n\n\n\n\nFlags & Water: \n\n\nSubmitted By: Ken Kelly \nPosition: Missouri Ride Captain \n\nNote: You do not have to own/ride a motorcycle or be a veteran to join\, and membership is Free. The only requirement is RESPECT! To subscribe to receive mission notices\, log into the National Site and click on the Members tab at the top. Select the Subscribe to PGR Missions option.\n Print This Page
URL:https://www.patriotguard.org/mission/robert-joseph-bilbrough/
CATEGORIES:Honor Mission
END:VEVENT
END:VCALENDAR