BEGIN:VCALENDAR
VERSION:2.0
PRODID:-//Patriot Guard Riders - ECPv5.3.2.1//NONSGML v1.0//EN
CALSCALE:GREGORIAN
METHOD:PUBLISH
X-WR-CALNAME:Patriot Guard Riders
X-ORIGINAL-URL:https://www.patriotguard.org
X-WR-CALDESC:Events for Patriot Guard Riders
BEGIN:VTIMEZONE
TZID:America/New_York
BEGIN:DAYLIGHT
TZOFFSETFROM:-0500
TZOFFSETTO:-0400
TZNAME:EDT
DTSTART:20190310T070000
END:DAYLIGHT
BEGIN:STANDARD
TZOFFSETFROM:-0400
TZOFFSETTO:-0500
TZNAME:EST
DTSTART:20191103T060000
END:STANDARD
END:VTIMEZONE
BEGIN:VEVENT
DTSTART;VALUE=DATE:20190919
DTEND;VALUE=DATE:20190920
DTSTAMP:20210401T120616
CREATED:20190917T194614Z
LAST-MODIFIED:20190917T194614Z
UID:174634-1568851200-1568937599@www.patriotguard.org
SUMMARY:Robert Jerry Goodman
DESCRIPTION:Honor Mission\nRobert Jerry Goodman\, Veteran\nUSA\, USAR – Vietnam\nBastrop\, Louisiana – 09-19-19\n\n\n\nABOUT THE MISSION: \nJerry Goodman served his country with honor during the late 1950’s thru Mid 1960’s. He served in the United States Army 1st Brigade 8th Mobile Calvary as a Light Arms Specialist Infantryman. After his service he returned to Bastrop\, La. and began a career working for International Paper. He loved the outdoors hunting and fishing. His family has asked the Patriot Guard to stand in respect of his service and it will be out honor to do so.\n\n\nPRIMARY STAGING DETAILS: 09-19-19 \nStaging Time: 09:00 AM\n \nGolden Funeral Home\n2016 East Madison Ave\nBastrop\, Louisiana 71220\n\n\nRide Captain: \nBuck Harper\n318-282-1899\n\n\nSpecial Instructions: \nFlags will already be set. We will assemble and stand before the service. During service we will have a escort briefing.\nAfter service we will escort him to Memorial Park Cemetery on Hwy 425 North of Bastrop. Approx 5 mile escort.\nThere we will stand by flags during his interment service.\nWeather should be cool\, slight chance of a shower. Check local weather before heading out.\n\n\nFlags & Water:\nFlags will be provided\nIf you have large bike flags\, please bring them.\nWater will be provided.\n\n\n\nSubmitted By: Buck Harper \nPosition: Louisiana Ride Captain \n\nNote: You do not have to own/ride a motorcycle or be a veteran to join\, and membership is Free. The only requirement is RESPECT! To subscribe to receive mission notices\, log into the National Site and click on the Members tab at the top. Select the Subscribe to PGR Missions option.\n Print This Page
URL:https://www.patriotguard.org/mission/robert-jerry-goodman/
CATEGORIES:Honor Mission
END:VEVENT
END:VCALENDAR