BEGIN:VCALENDAR
VERSION:2.0
PRODID:-//Patriot Guard Riders - ECPv5.6.0//NONSGML v1.0//EN
CALSCALE:GREGORIAN
METHOD:PUBLISH
X-WR-CALNAME:Patriot Guard Riders
X-ORIGINAL-URL:https://www.patriotguard.org
X-WR-CALDESC:Events for Patriot Guard Riders
BEGIN:VTIMEZONE
TZID:America/New_York
BEGIN:DAYLIGHT
TZOFFSETFROM:-0500
TZOFFSETTO:-0400
TZNAME:EDT
DTSTART:20160313T070000
END:DAYLIGHT
BEGIN:STANDARD
TZOFFSETFROM:-0400
TZOFFSETTO:-0500
TZNAME:EST
DTSTART:20161106T060000
END:STANDARD
END:VTIMEZONE
BEGIN:VEVENT
DTSTART;TZID=America/New_York:20160613T090000
DTEND;TZID=America/New_York:20160613T110000
DTSTAMP:20210513T163729
CREATED:20160613T130000Z
LAST-MODIFIED:20191201T145206Z
UID:411380-1465808400-1465815600@www.patriotguard.org
SUMMARY:Robert James Spurling\, 65\, USMC
DESCRIPTION:Robert James Spurling\, 65\nUSMC Vietnam Veteran\nBushnell\, FL.\nMonday\, June 13\, 2016\n\n\n\nThe family of PVT Robert James Spurling has graciously requested the Patriot Guard Rider’s presence as they show their final respects and lay their love one to rest.\nPVT Spurling served his Country in the U.S. Marine Corps from March 1968 – March 1972\, and performed duties as a Radio Telephone Operator. \nPVT Spurling served a tour-of-duty in Vietnam from January 1970 – January 1971.  Upon completion of his service to our Country\, PVT Spurling received an Honorable Discharge and awarded the National Defense Service Medal\, Good Conduct Medal\, Combat Action Ribbon\, Naval Marine Parachute Insignia\, Vietnam Campaign Medal and a Vietnam Service Medal. \nPVT Spruling’s wife survives him and his hobbies included fishing\, hiking in the mountains and riding motorcycles. \nPlease bring your 3 X 5 American Flags and join us as we escort and stand in silent Honor and Respect for our U.S. Marine\, Vietnam Veteran and his family. \nItinerary: \nFlorida National Cemetery\n6502 SW 102nd Ave.\nBushnell\, FL.\, 33513 \nMap:   https://goo.gl/7vjBPn \nStage: 1000 hrs \nBrief: 1015 hrs \nFlag Line: As determined by Ride Captain \nService: 1100 hrs \nRide Captain:\nDoug “Easy D” Stone\ndstone34@ymail.com\n352-603-0212 \nRespectfully submitted:\nDavid “Flyboy” Shelton\nFL ASC
URL:https://www.patriotguard.org/mission/robert-james-spurling-65-usmc/
CATEGORIES:Archive
END:VEVENT
END:VCALENDAR