BEGIN:VCALENDAR
VERSION:2.0
PRODID:-//Patriot Guard Riders - ECPv5.6.0//NONSGML v1.0//EN
CALSCALE:GREGORIAN
METHOD:PUBLISH
X-WR-CALNAME:Patriot Guard Riders
X-ORIGINAL-URL:https://www.patriotguard.org
X-WR-CALDESC:Events for Patriot Guard Riders
BEGIN:VTIMEZONE
TZID:America/New_York
BEGIN:DAYLIGHT
TZOFFSETFROM:-0500
TZOFFSETTO:-0400
TZNAME:EDT
DTSTART:20160313T070000
END:DAYLIGHT
BEGIN:STANDARD
TZOFFSETFROM:-0400
TZOFFSETTO:-0500
TZNAME:EST
DTSTART:20161106T060000
END:STANDARD
END:VTIMEZONE
BEGIN:VEVENT
DTSTART;TZID=America/New_York:20160722T090000
DTEND;TZID=America/New_York:20160722T110000
DTSTAMP:20210512T211609
CREATED:20160722T130000Z
LAST-MODIFIED:20191201T144149Z
UID:410444-1469178000-1469185200@www.patriotguard.org
SUMMARY:Robert Jake Fieker\, 79
DESCRIPTION:The family of Hero Fieker has honored the Patriot Guard Riders to stand a flag line at his service and to provide escort to the Missouri Veterans Cemetery\, south of Springfield\, MO. \nHero Fieker was born in Sarcoxie\, MO in 1937 and enlisted in the Army in 1957 and was Honorably discharged in 1959. He was then enlisted in the Army Reserve to fulfill his 6 year obligation and released in 1963. His residence at that time was Aurora\, MO. \nTrained as an 11 Bravo\, Light Weapons Infantryman\, he was awarded the Good Conduct medal\, Expert Sub-machinegun badge\, Sharpshooter Rifle badge. His duty station was Ft. Sheridan\, IL\, Co B\, 3rd Armor Rifle\, 51st ID. \nService will be conducted at 12:30\,  Walnut Lawn Funeral Home\, 2001 W. Walnut Lawn\, Springfield\, MO. w/ escort to MVC and 1400 hrs committal. \nHot & Humid. Hydrate well. \nStage:  1115 hrs \nBrief:  1130 hrs \nFlag line:  following brief \nEscort: 1330 hrs \nRC Phil ‘Chief’ Fels\n417-207-3325\nchief4fels@gmail.com \nFlag support\nTBD
URL:https://www.patriotguard.org/mission/robert-jake-fieker-79/
CATEGORIES:Archive
END:VEVENT
END:VCALENDAR