BEGIN:VCALENDAR
VERSION:2.0
PRODID:-//Patriot Guard Riders - ECPv5.3.2.1//NONSGML v1.0//EN
CALSCALE:GREGORIAN
METHOD:PUBLISH
X-WR-CALNAME:Patriot Guard Riders
X-ORIGINAL-URL:https://www.patriotguard.org
X-WR-CALDESC:Events for Patriot Guard Riders
BEGIN:VTIMEZONE
TZID:America/New_York
BEGIN:DAYLIGHT
TZOFFSETFROM:-0500
TZOFFSETTO:-0400
TZNAME:EDT
DTSTART:20190310T070000
END:DAYLIGHT
BEGIN:STANDARD
TZOFFSETFROM:-0400
TZOFFSETTO:-0500
TZNAME:EST
DTSTART:20191103T060000
END:STANDARD
END:VTIMEZONE
BEGIN:VEVENT
DTSTART;VALUE=DATE:20190712
DTEND;VALUE=DATE:20190713
DTSTAMP:20210404T032649
CREATED:20190711T020424Z
LAST-MODIFIED:20190711T020424Z
UID:167312-1562889600-1562975999@www.patriotguard.org
SUMMARY:Robert J. Stevens\, III
DESCRIPTION:Honor Mission\nRobert J. Stevens\, III\, Active Duty\nUSA – WoT\nCanton\, Georgia – 07-12-19\n\n\n\n\nABOUT THE MISSION: \nSSG Robert J. Stevens\, age 29\, died Saturday\, June 29th at the hospital in Dunn\, North Carolina. He was on active duty and serving as an electronic warfare specialist in 2nd Brigade\, 82nd Airborne Division and died as a result of a tragic motorcycle accident. SSG Stevens was a veteran of the War on Terror. His awards and decorations include the Army Commendation Medal\, Army Achievement Medal\, GWOT Service Medal\, Airborne Badge and Jump Master Badge.\n\n\nPRIMARY STAGING DETAILS: 07-12-19 \nStaging Time: 1:45 pm \nGeorgia National Cemetery\n1080 Scott Hudgens Drive\nCanton\, Georgia 30114\n\n\nRide Captain: \nByron “Gimpy” Hall\nbplayer46@gmail.com\n(770) 883-8175\n\n\nSpecial Instructions: \nThis will be a flag line only. SSG Stevens and his family will be escorted from Columbus to GNC by a contingent of patriot riders. Stage at the POW/MIA flag pole area. Bikes on right sidewalk. Cages along right curb just prior to area or after. After a short briefing we will move to the assigned shelter at the appropriate time. Service is scheduled for 2:30 pm. There is an earlier mission with service at 1 pm. Please plan to attend both missions if at all possible.\n\n\nFlags & Water:\n\nFlags will be provided\nLarge Bike Flags will NOT be needed.\nWater will be provided.\n\n\n\nSubmitted By: Byron L Hall \nPosition: Georgia Ride Captain \n\nNote: You do not have to own/ride a motorcycle or be a veteran to join\, and membership is Free. The only requirement is RESPECT! To subscribe to receive mission notices\, log into the National Site and click on the Members tab at the top. Select the Subscribe to PGR Missions option.\n Print This Page
URL:https://www.patriotguard.org/mission/robert-j-stevens-iii/
CATEGORIES:Honor Mission
END:VEVENT
END:VCALENDAR