BEGIN:VCALENDAR
VERSION:2.0
PRODID:-//Patriot Guard Riders - ECPv5.3.2.1//NONSGML v1.0//EN
CALSCALE:GREGORIAN
METHOD:PUBLISH
X-WR-CALNAME:Patriot Guard Riders
X-ORIGINAL-URL:https://www.patriotguard.org
X-WR-CALDESC:Events for Patriot Guard Riders
BEGIN:VTIMEZONE
TZID:America/New_York
BEGIN:DAYLIGHT
TZOFFSETFROM:-0500
TZOFFSETTO:-0400
TZNAME:EDT
DTSTART:20180311T070000
END:DAYLIGHT
BEGIN:STANDARD
TZOFFSETFROM:-0400
TZOFFSETTO:-0500
TZNAME:EST
DTSTART:20181104T060000
END:STANDARD
END:VTIMEZONE
BEGIN:VEVENT
DTSTART;VALUE=DATE:20181227
DTEND;VALUE=DATE:20181228
DTSTAMP:20210405T191834
CREATED:20181225T144923Z
LAST-MODIFIED:20181225T144923Z
UID:145569-1545868800-1545955199@www.patriotguard.org
SUMMARY:Robert J. Stearns
DESCRIPTION:Honor Mission\nRobert J. Stearns\, Veteran\nUSMC – Korea\nBridgewater\, Massachusetts – 12-27-18\n\n\n\n\nABOUT THE MISSION: \nThe family of US Marine and Korean War veteran Robert J. Strearns has requested our presence at the funeral of their beloved hero. Robert served our country in the US Marines during the Korean War.  He was also active in the Bridgewater Little League for over 40 years.  Robert was 83 years old.\n\n\nPRIMARY STAGING DETAILS: 12-27-18 \nStaging Time: 09:15 a.m. \nDunkin Donuts\n171 Broad Street\nBridgewater\, Massachusetts 02324\n\n\nRide Captain: \nSteve Viera\nsrvnam69@comcast.net\n\n\nSpecial Instructions: \nBriefing:  10:00 AM\nKSU: 10:10 AM to Prophett-Chapman\, Cole & Gleason Funeral Home\, 98 Bedford Street\, Bridgewater\, MA 02324\n\nInterment will be at a later date.\n\n\nFlags & Water:\nFlags will be provided\nLarge Bike Flags will NOT be needed.\nWater WILL NOT be provided\, please bring your own.\n\n\n\nSubmitted By: Larry Drum \nPosition: Massachusetts Assistant State Captain \n\nNote: You do not have to own/ride a motorcycle or be a veteran to join\, and membership is Free. The only requirement is RESPECT! To subscribe to receive mission notices\, log into the National Site and click on the Members tab at the top. Select the Subscribe to PGR Missions option.\n Print This Page
URL:https://www.patriotguard.org/mission/robert-j-stearns/
CATEGORIES:Honor Mission
END:VEVENT
END:VCALENDAR