BEGIN:VCALENDAR
VERSION:2.0
PRODID:-//Patriot Guard Riders - ECPv5.3.2.1//NONSGML v1.0//EN
CALSCALE:GREGORIAN
METHOD:PUBLISH
X-WR-CALNAME:Patriot Guard Riders
X-ORIGINAL-URL:https://www.patriotguard.org
X-WR-CALDESC:Events for Patriot Guard Riders
BEGIN:VTIMEZONE
TZID:America/New_York
BEGIN:DAYLIGHT
TZOFFSETFROM:-0500
TZOFFSETTO:-0400
TZNAME:EDT
DTSTART:20190310T070000
END:DAYLIGHT
BEGIN:STANDARD
TZOFFSETFROM:-0400
TZOFFSETTO:-0500
TZNAME:EST
DTSTART:20191103T060000
END:STANDARD
END:VTIMEZONE
BEGIN:VEVENT
DTSTART;VALUE=DATE:20190709
DTEND;VALUE=DATE:20190710
DTSTAMP:20210404T054608
CREATED:20190706T212816Z
LAST-MODIFIED:20190706T213217Z
UID:166820-1562630400-1562716799@www.patriotguard.org
SUMMARY:Robert J. Matthews
DESCRIPTION:Honor Mission\nRobert J. Matthews\, Veteran\nUSAF-\nGlennville\, Georgia – 07-09-19\n\n\n\n\nABOUT THE MISSION: \nThe family of Robert J. Mathews has asked the Patriot Guard Riders to escort Mr. Matthews\, and we are honored to do so. Mr. Robert J. Matthews was a U.S. Air Force Veteran of 8 years\, and retired from McDonald Douglas as an airplane mechanic. He enjoyed riding his motorcycle. The family would like to give Mr. Matthews ONE LAST motorcycle ride. This will be an escort ride only from funeral home\, to Georgia Veterans Memorial Cemetery in Glennville.\n\n\nPRIMARY STAGING DETAILS: 07-09-19 \nStaging Time: 14:15  \nGlennville Funeral Home\n403 W. Barnard Street (Hwy 144)\nGlennville\, Georgia 30427\nMap\n\n\nRide Captain: \nCharlie Pendleton\nwatcher67@comcast.net\n912-427-8161\n\n\nSpecial Instructions: \nWe will stage for briefing\, then escort to Georgia Veterans Memorial Cemetery.\n\n\nFlags & Water:\nFlags will be provided\nIf you have large bike flags\, please bring them.\nWater WILL NOT be provided\, please bring your own.\n\n\n\nSubmitted By: Charlie Pendleton \nPosition: Georgia Ride Captain \n\nNote: You do not have to own/ride a motorcycle or be a veteran to join\, and membership is Free. The only requirement is RESPECT! To subscribe to receive mission notices\, log into the National Site and click on the Members tab at the top. Select the Subscribe to PGR Missions option.\n Print This Page
URL:https://www.patriotguard.org/mission/robert-j-matthews/
CATEGORIES:Honor Mission
END:VEVENT
END:VCALENDAR