BEGIN:VCALENDAR
VERSION:2.0
PRODID:-//Patriot Guard Riders - ECPv5.3.2.1//NONSGML v1.0//EN
CALSCALE:GREGORIAN
METHOD:PUBLISH
X-WR-CALNAME:Patriot Guard Riders
X-ORIGINAL-URL:https://www.patriotguard.org
X-WR-CALDESC:Events for Patriot Guard Riders
BEGIN:VTIMEZONE
TZID:America/New_York
BEGIN:DAYLIGHT
TZOFFSETFROM:-0500
TZOFFSETTO:-0400
TZNAME:EDT
DTSTART:20130310T070000
END:DAYLIGHT
BEGIN:STANDARD
TZOFFSETFROM:-0400
TZOFFSETTO:-0500
TZNAME:EST
DTSTART:20131103T060000
END:STANDARD
END:VTIMEZONE
BEGIN:VEVENT
DTSTART;TZID=America/New_York:20130802T090000
DTEND;TZID=America/New_York:20130802T110000
DTSTAMP:20210403T013457
CREATED:20130802T130000Z
LAST-MODIFIED:20191201T115816Z
UID:385017-1375434000-1375441200@www.patriotguard.org
SUMMARY:Robert J. Cooke\, USN (RET) / LEO (RET)\, Seekonk
DESCRIPTION:Updated 01 Aug 13 1132 edt S Sturgis \nUPDATE ON TIME:\n\nSTAGING WILL BE FROM 11:00 KSU 11:15 \nALSO\, CHURCH INFORMATION WAS GIVEN FOR PERSONAL PURPOSE ONLY AS SOME OF OUR MEMBERS WERE FRIENDS WITH MR. COOKE.  PLEASE DO NOT BE CONFUSED WITH THE CHURCH BEING PART OF THE MISSION.  THANK YOU. \n*************************************************************** \nWe have been honored with a request for a flag line from the family of Robert J. Cooke\, Ret Navy WWII and Ret Detective East Providence Police. \nBeing as Robert was well know on the police force\, I have been told there will be a strong presence of his Brothers/Sisters to give proper honors and we don’t want to be in the way of that.  Remember\, back drop of honor and respect.  We will have a flag line only\, Chapel at the Exeter Veterans Cemetery. \nFriday Aug 2\, 2013 \nChurch services at:\nSeekonk Congregational Church\n600 Fall River Ave.\nSeekonk\, MA. \nInterment:\nChapel\nRI Veterans Cemetery\n301 South County Trail\nExeter\, RI \nStaging:\n\nTime:\n10:00am KSU  * TBA\n\nLocation:\nMOBIL GAS/ DUNKIN DONUTS PLAZA \n561 South County Trail \nExeter\, RI\n\nPark in lot furthest behind the gas station.\n\nRC: Rick “Pappy” Desjarles \nBarbara “Wolfy” Dardeen\nRhode Island State Captain\nPatriot Guard Rider
URL:https://www.patriotguard.org/mission/robert-j-cooke-usn-ret-leo-ret-seekonk/
CATEGORIES:Archive
END:VEVENT
END:VCALENDAR