BEGIN:VCALENDAR
VERSION:2.0
PRODID:-//Patriot Guard Riders - ECPv5.6.0//NONSGML v1.0//EN
CALSCALE:GREGORIAN
METHOD:PUBLISH
X-WR-CALNAME:Patriot Guard Riders
X-ORIGINAL-URL:https://www.patriotguard.org
X-WR-CALDESC:Events for Patriot Guard Riders
BEGIN:VTIMEZONE
TZID:America/New_York
BEGIN:DAYLIGHT
TZOFFSETFROM:-0500
TZOFFSETTO:-0400
TZNAME:EDT
DTSTART:20160313T070000
END:DAYLIGHT
BEGIN:STANDARD
TZOFFSETFROM:-0400
TZOFFSETTO:-0500
TZNAME:EST
DTSTART:20161106T060000
END:STANDARD
END:VTIMEZONE
BEGIN:VEVENT
DTSTART;TZID=America/New_York:20160709T090000
DTEND;TZID=America/New_York:20160709T110000
DTSTAMP:20210512T161713
CREATED:20160709T130000Z
LAST-MODIFIED:20191201T144546Z
UID:410807-1468054800-1468062000@www.patriotguard.org
SUMMARY:Robert J. Bump\, USN Veteran / Knoxville
DESCRIPTION:Please note that due to ongoing OPSEC concerns\, mission details are not shown in this posting. All specific details and updates have been sent to members directly via their e-mail address on file.\n\n\nFellow PGR Members: \nWe have the opportunity to help Honor the U.S. Naval Service of Robert J. Bump of Leroy\, who passed away on March 13\, 2015. \nHM2 Bump served our nation for 13 years.  I am awaiting further details on his Military Service. \nOf note:  Mr. Bump’s brother is a 4-tour Afghanistan/Iraq Veteran\, and has been integral in arranging this Honor Mission. \nMission Details:\nSaturday\, July 9\, 2016 \nPGR\, American Legion Riders and other groups to escort HM2 Bump and family members:\nKnoxville\, PA – Byron\, NY \nPlease ensure your bikes are fully fueled\, and bike flags are properly placed and securely attached for the 100-mile Escort.\n\nLRC:\nSkip Merrick\nmerricce@verizon.net \nLRC:\nJoe Joyce\nJjoyce82abn55@yahoo.com
URL:https://www.patriotguard.org/mission/robert-j-bump-usn-veteran-knoxville/
CATEGORIES:Archive
END:VEVENT
END:VCALENDAR