BEGIN:VCALENDAR
VERSION:2.0
PRODID:-//Patriot Guard Riders - ECPv5.6.0//NONSGML v1.0//EN
CALSCALE:GREGORIAN
METHOD:PUBLISH
X-WR-CALNAME:Patriot Guard Riders
X-ORIGINAL-URL:https://www.patriotguard.org
X-WR-CALDESC:Events for Patriot Guard Riders
BEGIN:VTIMEZONE
TZID:America/New_York
BEGIN:DAYLIGHT
TZOFFSETFROM:-0500
TZOFFSETTO:-0400
TZNAME:EDT
DTSTART:20160313T070000
END:DAYLIGHT
BEGIN:STANDARD
TZOFFSETFROM:-0400
TZOFFSETTO:-0500
TZNAME:EST
DTSTART:20161106T060000
END:STANDARD
END:VTIMEZONE
BEGIN:VEVENT
DTSTART;TZID=America/New_York:20160615T090000
DTEND;TZID=America/New_York:20160615T110000
DTSTAMP:20210513T132205
CREATED:20160615T130000Z
LAST-MODIFIED:20191201T145111Z
UID:411297-1465981200-1465988400@www.patriotguard.org
SUMMARY:Robert H. Workman
DESCRIPTION:Patriot’s Name:PO1 Robert H. Workman\nMilitary Branch:United States Navy\nClassification:Veteran\nAdditional Military Info: U. S. Navy EW1 1981-1987: served aboard USS Joseph Strauss (DDG 16) \nLink To Obituary: http://goo.gl/MtFce1 \nMission Ride Captain:\nRusty McNab\, rustymcnab@sbcglobal.net\, (817) 228-7845 \nMission Summary:\nThe Family of PO1 Robert H. Workman has invited the Patriot Guard Riders to stand Honors at his Memorial Service. \nPART 1:Memorial Service\nMission Date:Jun 15\, 2016 – Wednesday\nStaging Time:14:00\nBriefing Time:14:15\nIn Position Time Or KSU:14:30\nService Start Time:15:00 \nDetails Of Part 1:\nThe Patriot Guard Riders will stage in the funeral home parking lot. Following the mission briefing\, Riders will stand the Flag Line for the arrival of Family and friends at the Memorial Service of PO1 Workman. After the start of the Service\, Flags will be furled and Riders dismissed. \nName Of Staging Point:\nBluebonnet Hills Funeral Home\n5725 Colleyville Blvd.\nColleyville\, Texas 76034 \nRespectfully Submitted By:\nRusty McNab\nRide Captain
URL:https://www.patriotguard.org/mission/robert-h-workman/
CATEGORIES:Archive
END:VEVENT
END:VCALENDAR