BEGIN:VCALENDAR
VERSION:2.0
PRODID:-//Patriot Guard Riders - ECPv5.6.0//NONSGML v1.0//EN
CALSCALE:GREGORIAN
METHOD:PUBLISH
X-WR-CALNAME:Patriot Guard Riders
X-ORIGINAL-URL:https://www.patriotguard.org
X-WR-CALDESC:Events for Patriot Guard Riders
BEGIN:VTIMEZONE
TZID:America/New_York
BEGIN:DAYLIGHT
TZOFFSETFROM:-0500
TZOFFSETTO:-0400
TZNAME:EDT
DTSTART:20160313T070000
END:DAYLIGHT
BEGIN:STANDARD
TZOFFSETFROM:-0400
TZOFFSETTO:-0500
TZNAME:EST
DTSTART:20161106T060000
END:STANDARD
END:VTIMEZONE
BEGIN:VEVENT
DTSTART;TZID=America/New_York:20160623T090000
DTEND;TZID=America/New_York:20160623T110000
DTSTAMP:20210513T130005
CREATED:20160623T130000Z
LAST-MODIFIED:20191201T144902Z
UID:411100-1466672400-1466679600@www.patriotguard.org
SUMMARY:Robert H. Mullins\, 50
DESCRIPTION:HONOR MISSION\nUS Air Force Veteran Robert H. Mullins – 50\nThursday 23 June 2016\nBiloxi\, Mississippi\n\n\n\n \n\nThe family of Robert H. Mullins has requested the PATRIOT GUARD RIDERS assist in paying tribute to him for his honorable and dedicated service to our country. \nRobert proudly served 6 years in the US Air Force in several locations including 2 years service in South Korea. \nSTAGING:  Thursday 23 June 2016 at 4:00 PM at LUTHERAN CHURCH OF THE GOOD SHEPHERD; 2004 Pass Road; Biloxi\, MS 39531 the PGR will provide a silent US Flag line until the beginning of the funeral service at 5:00 PM. \nNOTE: There will be no escort with this Mission. \nPlease join us in the flag line as we STAND FOR ONE WHO STOOD FOR US ! \nRC: Paul Ramm\n830.444.1141
URL:https://www.patriotguard.org/mission/robert-h-mullins-50/
CATEGORIES:Archive
END:VEVENT
END:VCALENDAR