BEGIN:VCALENDAR
VERSION:2.0
PRODID:-//Patriot Guard Riders - ECPv5.3.2.1//NONSGML v1.0//EN
CALSCALE:GREGORIAN
METHOD:PUBLISH
X-WR-CALNAME:Patriot Guard Riders
X-ORIGINAL-URL:https://www.patriotguard.org
X-WR-CALDESC:Events for Patriot Guard Riders
BEGIN:VTIMEZONE
TZID:America/New_York
BEGIN:DAYLIGHT
TZOFFSETFROM:-0500
TZOFFSETTO:-0400
TZNAME:EDT
DTSTART:20190310T070000
END:DAYLIGHT
BEGIN:STANDARD
TZOFFSETFROM:-0400
TZOFFSETTO:-0500
TZNAME:EST
DTSTART:20191103T060000
END:STANDARD
END:VTIMEZONE
BEGIN:VEVENT
DTSTART;VALUE=DATE:20190821
DTEND;VALUE=DATE:20190822
DTSTAMP:20210402T123806
CREATED:20190820T033607Z
LAST-MODIFIED:20190820T033607Z
UID:171383-1566345600-1566431999@www.patriotguard.org
SUMMARY:Robert H Garside
DESCRIPTION:Honor Mission\nRobert H Garside\, Retired\, Veteran\nUSAF – Vietnam\nRiverton\, Utah – 08-21-19\n\n\n\nABOUT THE MISSION: \nThe Patriot Guard Riders have been requested to stand a flag line for Robert H Garside. Robert H Garside served in the U.S. Air Force during the Vietnam War. This will be a veteran’s format. Thank you\, Robert H Garside\, for your service. Anyone attending in a cage and willing to transport flags please contact Stephen “Booth” Booth at: 801-450-4353.\n\n\nPRIMARY STAGING DETAILS: 08-21-19 \nStaging Time: 11:00 AM\n \nLowe’s\n12462 S Creek Meadow Rd\nRiverton\, Utah\n\n\nRide Captain: \nStephen “Booth” Booth\n801-450-4353\n\n\nSpecial Instructions: \nKSU: 11:30 AM\nService: 11:00 am at Larkin Funeral Home\, 3688 W 12600 S\, Riverton.\nWe will stand a flag line at the mortuary and then escort Robert H Garside to his final resting place in the Utah Veterans Cemetery & Memorial Park on 17111 S Camp Williams Rd in Bluffdale\, where we will stand another flag line.\nWeather: Mostly sunny with a high of 98.\nPlease dress accordingly and keep yourself hydrated.\n\n\nFlags & Water:\nFlags will be provided\nIf you have large bike flags\, please bring them.\nWater WILL NOT be provided\, please bring your own.\n\n\n\nSubmitted By: Dave Richardson \nPosition: Utah State Captain \n\nNote: You do not have to own/ride a motorcycle or be a veteran to join\, and membership is Free. The only requirement is RESPECT! To subscribe to receive mission notices\, log into the National Site and click on the Members tab at the top. Select the Subscribe to PGR Missions option.\n Print This Page
URL:https://www.patriotguard.org/mission/robert-h-garside/
CATEGORIES:Honor Mission
END:VEVENT
END:VCALENDAR