BEGIN:VCALENDAR
VERSION:2.0
PRODID:-//Patriot Guard Riders - ECPv5.3.2.1//NONSGML v1.0//EN
CALSCALE:GREGORIAN
METHOD:PUBLISH
X-WR-CALNAME:Patriot Guard Riders
X-ORIGINAL-URL:https://www.patriotguard.org
X-WR-CALDESC:Events for Patriot Guard Riders
BEGIN:VTIMEZONE
TZID:America/New_York
BEGIN:DAYLIGHT
TZOFFSETFROM:-0500
TZOFFSETTO:-0400
TZNAME:EDT
DTSTART:20170312T070000
END:DAYLIGHT
BEGIN:STANDARD
TZOFFSETFROM:-0400
TZOFFSETTO:-0500
TZNAME:EST
DTSTART:20171105T060000
END:STANDARD
END:VTIMEZONE
BEGIN:VEVENT
DTSTART;TZID=America/New_York:20170212T173000
DTEND;TZID=America/New_York:20170212T193000
DTSTAMP:20210406T015814
CREATED:20170212T223000Z
LAST-MODIFIED:20191201T033822Z
UID:338189-1486920600-1486927800@www.patriotguard.org
SUMMARY:Robert Glenn Gallman\, Veteran\, USA - Vietnam
DESCRIPTION:Robert Glenn Gallman\, Veteran \nUSA – Vietnam \nMULTI-CITY\, North Carolina – 12 Feb 2017\n\n[HR][/HR]\nABOUT THE MISSION: \nFellow Patriots\,\n　\nThe Patriot Guard Riders have been requested to stand for one who stood  for us.  Mr. Robert Glen Gallman served honorably in the U.S. Army.  During his service for our country Mr. Gallman earned the rank of  Sergeant and the following Medals and Ribbons:   National Defense  Service Medal\, Parachute Badge\, Expert Badge M-16 Rifle\, Vietnam Service  Medal\, Army Commendation Medal\, Vietnam Campaign Medal w/60 Device\,  Combat Infantryman Badge\, Bronze Star Medal\, Good Conduct Medal\,  Presidential Unit Citation and The Vietnam Cross of Gallantry with Palm. \nPlease join us in honoring this True American Hero. \nObituary:  http://www.hartsellfh.com/sitemaker/…83244_RGallman \nThis will be a TWO day mission \nPRIMARY STAGING DETAILS: 12 Feb 2017 \n \nPrimary Staging Time: 5:30 P.M.\n\nHartsell Funeral Home\n460 Branchview Dr. NE\n\nConcord\, North Carolina –\n\n\nhttps://goo.gl/maps/nAysxcmk1ET2\n\n \nRide Captain:\n\nTim Snyder\n704-507-3010\ntrssx3@windstream.net\n\n \n\nSpecial Instructions:\n\nBriefing: 5:40 pm \nWe will stand a Flag line after briefing for friends and family till  8:00 pm. At this time we will stand down and then quietly leave the  area.\n\n \nFlags & Water:\n\nFlags Will Be Provided\n\nIf you have large bike flags\, please bring them.\n\nWater WILL NOT be provided\, please bring your own.\n\n\n[HR][/HR]\nSTAGING #2 DETAILS: 14 Feb\, 2017 \n \nStaging #2 Time: 9:30 A.M.\n\nHartsell Funeral Home\n460 Branchview Dr. NE\n\nConcord\, North Carolina –\n\n\nMap: https://goo.gl/maps/nAysxcmk1ET2\n\n \nRide Captain:\n\nTim Snyder\n704-507-3010\ntrssx3@windstream.net\n\n \nSpecial Instructions:\n\nAfter briefing  we will render honors as Mr. Gallman is transferred into coach. After  this time we will escort him to Old Salisbury National Cemetery approx.  22 miles where interment with full military honors will be given at  11:00 am. \nKSU: 10:00 am \nThose wishing to participate in the escort must attend the briefing. Safety is our primary concern (see below). \n**NOTE: Safety is of our utmost priority. Every effort possible is made  in planning and executing the PGR Mission statement in a manner that  minimizes the inherit dangers of riding a motorcycle\, including riding  in groups of all sizes and any situation. While the NCPG\, and it’s  riders have a remarkable safety record in the execution of our missions\,  infrequently members have been injured in unforeseen accidents. In an  effort to mitigate the risk of preventable accidents\, all attendees who  wish to ride in a Patriot Guard motorcycle escort or ride are asked to  attend the pre-mission briefing. It will include a safety briefing\, and  any unique ride information known to our RCIC that may be specific to  the mission. Member safety and well-being is always a principal ongoing  concern\, our RCIC’s are asked to stand-down from any mission that cannot  be accomplished in relative safety or unreasonable risk. This includes  both rides and flag lines in inclement weather and conditions. It  remains each individual PGR member’s responsibility to ride within their  own comfort zone and be cognizant of their surroundings and skill  limitations as well as any physical needs or limitations. If the ride  and/or mission conditions present challenges beyond your skill\, comfort\,  or needs you are expected to exercise good judgment in foregoing any  planned participation\n\n \n\nFlags & Water:\n\nFlags Will Be Provided\n\nLarge Bike Flags will be needed\n\nWater WILL NOT be provided\, please bring your own.\n\n[HR][/HR]\nSTAGING #3 DETAILS: 14 Feb\, 2017 \n \nStaging #3 Time: 10:30 A.M.\n\nHistoric Salisbury National Cemetery\n202 Government Road. (Off of South Railroad St.)\n\nSalisbury\, North Carolina – \n\nhttps://goo.gl/maps/ CyCRt5Mpgqx\n\n \n\nRide Captain:\n\nTommy Wood\n704-500-6175\ntomtreewood@yahoo.com\n\n \nSpecial Instructions:\n\nPlease Note:    When pulling in\, we will park single-file to the side of the road.  This  is where they want us to stage & park. The coach will be using the  other entrance 100 yards up the road off Railroad St. \nNOTE: The National Cemetery is on Federal property; please adhere to the  posted rules and regulations. Speed limit is 19 MPH\, NO parking on the  grass (NO exceptions)\, it is a weapon free zone\, NO knifes or any other  items that can be considered as a weapon is allowed on any Federal  property or installation. NO smoking allowed on any Federal cemetery  property. Please be aware of these rules and abide by them at all times.  Most of all\, we need to be respectful of other burial services that are  in progress upon our arrival. Keep the noise to a minimum when entering  and leaving the cemetery. Leave the property in as good\, if not better\,  a condition as it was when we arrived. Abide by the Ride Captain In  Charge (RCIC)\, his instructions and briefing.\n\n \n\nFlags & Water:\n\nFlags Will Be Provided\n\nLarge Bike Flags will be needed\n\nWater WILL NOT be provided\, please bring your own.\n\n\nSubmitted By: cw smith\nPosition: Ride Captain \n[HR][/HR]\nNote:\nYou do not have to own/ride a motorcycle or be a Veteran to join and membership is Free. The only requirement is RESPECT! To join\, simply go to Patriot Guard website and click on Register. Membership is Free. \nTo subscribe to receive mission notices\, log into the National Site and  click on the Mission Tab at the top. Select Upcoming Missions by State.  Scroll to the state(s) you would like to receive notices for and click  on the green check mark. Detailed instructions are also located in the  FAQs on the site by clicking on the Quick Links Tab and selecting FAQs.
URL:https://www.patriotguard.org/mission/robert-glenn-gallman-veteran-usa-vietnam/
END:VEVENT
END:VCALENDAR