BEGIN:VCALENDAR
VERSION:2.0
PRODID:-//Patriot Guard Riders - ECPv5.3.2.1//NONSGML v1.0//EN
CALSCALE:GREGORIAN
METHOD:PUBLISH
X-WR-CALNAME:Patriot Guard Riders
X-ORIGINAL-URL:https://www.patriotguard.org
X-WR-CALDESC:Events for Patriot Guard Riders
BEGIN:VTIMEZONE
TZID:America/New_York
BEGIN:DAYLIGHT
TZOFFSETFROM:-0500
TZOFFSETTO:-0400
TZNAME:EDT
DTSTART:20190310T070000
END:DAYLIGHT
BEGIN:STANDARD
TZOFFSETFROM:-0400
TZOFFSETTO:-0500
TZNAME:EST
DTSTART:20191103T060000
END:STANDARD
END:VTIMEZONE
BEGIN:VEVENT
DTSTART;VALUE=DATE:20190719
DTEND;VALUE=DATE:20190720
DTSTAMP:20210404T060903
CREATED:20190717T035752Z
LAST-MODIFIED:20190717T035752Z
UID:167914-1563494400-1563580799@www.patriotguard.org
SUMMARY:Robert George Nabors
DESCRIPTION:Honor Mission\nRobert George Nabors\, Veteran\nUSMC –\nPrescott\, Arizona – 07-19-19\n\n\n\n\nABOUT THE MISSION: \nRobert Nabors enlisted in the US Marine Corps in August 1949\, were he was trained as an auto mechanic. Bob honorably served 3 years and 3 months before his discharge. Bob was always a Marine\, staying active in the Devil Dogs and the Marine Corps Toys for Tots program. Bob recently passed at the age of 88.\n\n\nPRIMARY STAGING DETAILS: 07-19-19 \nStaging Time: 11:30 am \nPrescott National Cemetery\n500 SR 89\nPrescott\, Arizona 86301\nbit.ly/2zCaVYo\n\n\nRide Captain: \nMike Ammons\n408-679-3695\ntnthd213@gmail.com\n\n\nSpecial Instructions: \nNOTE: If you arrive before 11:30 AM\, please stay at the bottom parking area until the family has left the shelter. There is a previous 11 AM service there.\n\nBriefing: 11:40 AM\nCircle of Honor: Shortly after 11:40 AM\, after the arrival of the family\nFlag line: 11:50 AM\nMilitary Honors: Noon\n\nFlag Captain: Bob Meadowcroft\n\n\nFlags & Water:\nFlags will be provided\nLarge Bike Flags will NOT be needed.\nWater will be provided.\n\nSubmitted By: John Moffitt \nPosition: Arizona Assistant State Captain \n\nNote: You do not have to own/ride a motorcycle or be a veteran to join\, and membership is Free. The only requirement is RESPECT! To subscribe to receive mission notices\, log into the National Site and click on the Members tab at the top. Select the Subscribe to PGR Missions option.\n Print This Page
URL:https://www.patriotguard.org/mission/robert-george-nabors/
CATEGORIES:Honor Mission
END:VEVENT
END:VCALENDAR